BEGIN:VCALENDAR
VERSION:2.0
PRODID:-//wp-events-plugin.com//7.2.3.1//EN
TZID:Europe/Prague
X-WR-TIMEZONE:Europe/Prague
BEGIN:VEVENT
UID:166@ponava.cafe
DTSTART;TZID=Europe/Prague:20180803T190000
DTEND;TZID=Europe/Prague:20180803T190000
DTSTAMP:20180803T141642Z
URL:https://ponava.cafe/udalosti/pisnicky-honzy-nedveda-v-podani-kvarteta-
 vilema-spilky/
SUMMARY:Písničky Honzy Nedvěda v podání kvarteta Viléma Spilky
DESCRIPTION:HOMMAGE À L'OURS\n\nVůně táboráku naplňuje park\na já na
 ladil svou kytaru\,\nabych Ti zahrál tak\,\njak to máš ráda...\n\nJen 
 pár obyčejnejch písniček\njednoho smutnýho kluka\,\njako seš Ty\na j
 ako jsem já.\n\n---\n\nHudební skupina "Kvarteto Viléma Spilky" nám za
 hraje ty nejkrásnější písničky Honzy Nedvěda\, a to v originálníc
 h\, jakoby trochu džezových úpravách.\n\nVstupné dobrovolné\, špek
 áčky s sebou\n\n
ATTACH;FMTTYPE=image/jpeg:https://ponava.cafe/wp-content/uploads/2017/06/t
 apeta.jpg
CATEGORIES:Koncert
END:VEVENT
BEGIN:VTIMEZONE
TZID:Europe/Prague
X-LIC-LOCATION:Europe/Prague
BEGIN:DAYLIGHT
DTSTART:20180325T030000
TZOFFSETFROM:+0100
TZOFFSETTO:+0200
TZNAME:CEST
END:DAYLIGHT
END:VTIMEZONE
END:VCALENDAR