BEGIN:VCALENDAR
VERSION:2.0
PRODID:-//wp-events-plugin.com//7.2.3.1//EN
TZID:Europe/Prague
X-WR-TIMEZONE:Europe/Prague
BEGIN:VEVENT
UID:223@ponava.cafe
DTSTART;TZID=Europe/Prague:20190207T200000
DTEND;TZID=Europe/Prague:20190207T220000
DTSTAMP:20190206T153921Z
URL:https://ponava.cafe/udalosti/pavianni/
SUMMARY:Pavianni
DESCRIPTION:Nespoutaná duše Iwoše Fafílka (Tumpach Kvoč) hrající na 
 akordeon autorské písne o zvířatech a lidech.\n\n
ATTACH;FMTTYPE=image/jpeg:https://ponava.cafe/wp-content/uploads/2019/01/P
 avianni.jpg
CATEGORIES:Koncert
END:VEVENT
BEGIN:VTIMEZONE
TZID:Europe/Prague
X-LIC-LOCATION:Europe/Prague
BEGIN:STANDARD
DTSTART:20181028T020000
TZOFFSETFROM:+0200
TZOFFSETTO:+0100
TZNAME:CET
END:STANDARD
END:VTIMEZONE
END:VCALENDAR