BEGIN:VCALENDAR
VERSION:2.0
PRODID:-//wp-events-plugin.com//7.2.3.1//EN
TZID:Europe/Prague
X-WR-TIMEZONE:Europe/Prague
BEGIN:VEVENT
UID:447@ponava.cafe
DTSTART;TZID=Europe/Prague:20210719T200000
DTEND;TZID=Europe/Prague:20210719T220000
DTSTAMP:20210718T123832Z
URL:https://ponava.cafe/udalosti/pavel-zlamal-pq-krest-dvojalba-anchors-he
 arts/
SUMMARY:Pavel Zlámal & PQ - křest dvojalba Anchors & Hearts
DESCRIPTION:Trochu opožděný křest nového dvojalba brněnského free-ja
 zzového kvarteta PQ - Anchors &amp\; Hearts\, vydaného koncem prosince 2
 020 u Ma Records. Kde jinde v Brně\, než na Ponavě! Hurá!\n\nPavel Zl
 ámal - tenor sax\nMartin Konvička - piano &amp\; fender rhodes\nJuraj Va
 lenčík - double bass\nVáclav Pálka - drums\n\nVstupné dobrovolné\, z
 ážitky k nezaplacení \;)\n\n&nbsp\;\n\n&nbsp\;\n\n&nbsp\;\n\n&nbsp\;\n\
 n&nbsp\;\n\n&nbsp\;\n\n&nbsp\;\n\n&nbsp\;\n\n&nbsp\;\n\n&nbsp\;\n\n&nbsp\;
 \n\n&nbsp\;\n\n&nbsp\;
ATTACH;FMTTYPE=image/jpeg:https://ponava.cafe/wp-content/uploads/2021/07/P
 Q_2_by_Radim_Dibdiak-scaled.jpg
CATEGORIES:Koncert
END:VEVENT
BEGIN:VTIMEZONE
TZID:Europe/Prague
X-LIC-LOCATION:Europe/Prague
BEGIN:DAYLIGHT
DTSTART:20210328T030000
TZOFFSETFROM:+0100
TZOFFSETTO:+0200
TZNAME:CEST
END:DAYLIGHT
END:VTIMEZONE
END:VCALENDAR