BEGIN:VCALENDAR
VERSION:2.0
PRODID:-//wp-events-plugin.com//7.2.3.1//EN
TZID:Europe/Prague
X-WR-TIMEZONE:Europe/Prague
BEGIN:VEVENT
UID:121@ponava.cafe
DTSTART;TZID=Europe/Prague:20180527T180000
DTEND;TZID=Europe/Prague:20180527T180000
DTSTAMP:20180515T125704Z
URL:https://ponava.cafe/udalosti/pavel-suhajek-a-hynek-paseka-hudebni-dopr
 ovod-jan-lamram/
SUMMARY:Pavel Šuhájek a Hynek Paseka\, hudební doprovod: Jan Lamram
DESCRIPTION:Pavel Šuhájek a Hynek Paseka – autorské čtení\nHudební 
 doprovod: Jan Lamram\n\nPavel Šuhájek – básník narozený roku 1982 v
  Jihlavě\, žije v Brně. V roce 2013 vydal v nakladatelství Vetus Via s
 bírku Ona jen korále perly a rybíz.\n\nHynek Ozzy Paseka – básník\,
  narozený v Brně\, žil však i nějaký čas jako bezdomovec v Německu
 \, či squatter ve Španělsku. V roce 2014 mu vyšla v nakladatelství Ve
 tus Via sbírka básní z let 2000–2014 Skandál v pátém patře.\n\nJa
 n Lamram (*1981)\, hudebník žijící v současné době v Zastávce u Br
 na. V Brně již prošel pěknou řádkou kapel\, např. Massive Mustache\
 , Ples v opeře\, 000\, Lamram jam apod.\n\n
ATTACH;FMTTYPE=image/jpeg:https://ponava.cafe/wp-content/uploads/2017/06/t
 apeta.jpg
CATEGORIES:Autorské čtení
END:VEVENT
BEGIN:VTIMEZONE
TZID:Europe/Prague
X-LIC-LOCATION:Europe/Prague
BEGIN:DAYLIGHT
DTSTART:20180325T030000
TZOFFSETFROM:+0100
TZOFFSETTO:+0200
TZNAME:CEST
END:DAYLIGHT
END:VTIMEZONE
END:VCALENDAR