BEGIN:VCALENDAR
VERSION:2.0
PRODID:-//wp-events-plugin.com//7.2.3.1//EN
TZID:Europe/Prague
X-WR-TIMEZONE:Europe/Prague
BEGIN:VEVENT
UID:130@ponava.cafe
DTSTART;TZID=Europe/Prague:20180606T190000
DTEND;TZID=Europe/Prague:20180606T190000
DTSTAMP:20180528T153404Z
URL:https://ponava.cafe/udalosti/pavel-klvana/
SUMMARY:Pavel Klvaňa
DESCRIPTION:Pavel Klvaňa - Zlaté kosti - křest alba\n\nPavel Klvaňa je 
 hudebník a výrobce kalimb. Jeho písničkářská tvorba je žánrově s
 vébytná\, zpěv doprovází elektrická kalimba. Na koncertě v Ponavě 
 pokřtí právě vycházející krátké album Zlaté kosti. Nahrávka vzn
 ikla v jeskyni Pekárna v dubnu 2018\, písně zaznamenané živě v jejic
 h akustické verzi doprovází kontrabasista Vlado Micenko\, který bude i
  hudebním hostem ponavského koncertu.\n\n
ATTACH;FMTTYPE=image/jpeg:https://ponava.cafe/wp-content/uploads/2017/06/t
 apeta.jpg
CATEGORIES:Koncert
END:VEVENT
BEGIN:VTIMEZONE
TZID:Europe/Prague
X-LIC-LOCATION:Europe/Prague
BEGIN:DAYLIGHT
DTSTART:20180325T030000
TZOFFSETFROM:+0100
TZOFFSETTO:+0200
TZNAME:CEST
END:DAYLIGHT
END:VTIMEZONE
END:VCALENDAR