BEGIN:VCALENDAR
VERSION:2.0
PRODID:-//wp-events-plugin.com//7.2.3.1//EN
TZID:Europe/Prague
X-WR-TIMEZONE:Europe/Prague
BEGIN:VEVENT
UID:224@ponava.cafe
DTSTART;TZID=Europe/Prague:20190303T180000
DTEND;TZID=Europe/Prague:20190303T200000
DTSTAMP:20190228T115225Z
URL:https://ponava.cafe/udalosti/patrik-el-linhart/
SUMMARY:Patrik El Linhart
DESCRIPTION:První březnová neděle a autorské čtení s křestem knihy 
 Patrika El Linharta.\n\nNebude chybět ani hudební host - Petr Čichoň/l
 utna.\n\nPatrik Linhart\, severočeský básník\, performer a učitel skr
 omnosti\, bude číst\, mezi křty\, z čerstvě vydané sbírky mikropov
 ídek Jáma a rypadlo (Paper jam) a z knihy o svém pobytu na Ukrajině p
 řipravené na jaro brněnským nakladatelstvím Větrné mlýny. Vzdělá
 ním inženýr ekonomie a výchovou pankáč chová v sobě systematika\, 
 který říká: Čtení v Ponavě bude na chlup jeho 17 vystoupením v Brn
 ě. Sweet seventeen! Poznámka: Linhart nikdy nezískal žádnou literárn
 í cenu\, s výjimkou visegrádské ceny "Mé město"\, kterou získal za 
 povídku o Brně "Lola kráčí městem"\, kterou původně napsal napsal 
 o Teplicích.\n\nKnihy autora budou v prodeji.\n\nVstupné dobrovolné\, z
 ážitky k nezaplacení :)\n\nUkázka z knihy: "Doopravdy nechce nikdo\, a
 by se mu splnily jeho sny. Mluvím o skutečných snech a v jednom z nich 
 jsem složil národní hymnu. Ve snu mi mámoš řekla: „Unylá\, krátk
 á\, nemelodická. S takovou na rtech bych za vlast nepadla.“\n\n\n\n&nb
 sp\;
ATTACH;FMTTYPE=image/jpeg:https://ponava.cafe/wp-content/uploads/2017/06/t
 apeta.jpg
CATEGORIES:Autorské čtení
END:VEVENT
BEGIN:VTIMEZONE
TZID:Europe/Prague
X-LIC-LOCATION:Europe/Prague
BEGIN:STANDARD
DTSTART:20181028T020000
TZOFFSETFROM:+0200
TZOFFSETTO:+0100
TZNAME:CET
END:STANDARD
END:VTIMEZONE
END:VCALENDAR