BEGIN:VCALENDAR
VERSION:2.0
PRODID:-//wp-events-plugin.com//7.2.3.1//EN
TZID:Europe/Prague
X-WR-TIMEZONE:Europe/Prague
BEGIN:VEVENT
UID:145@ponava.cafe
DTSTART;TZID=Europe/Prague:20180626T190000
DTEND;TZID=Europe/Prague:20180626T190000
DTSTAMP:20180618T061455Z
URL:https://ponava.cafe/udalosti/opere/
SUMMARY:Opere
DESCRIPTION:Vernisáž výstavy kreseb Zuzany Pernicové\n\nVýběr kreseb 
 Zuzany Pernicové\, absolventky atelieru pečlivosti v práci s efemérní
 m médiem papíru u legendárního pana doktora J.H.K. a malířských ate
 lierů u prof. Mainera a doc. Rathouského (vše na FaVU)\, kde se projevi
 ly podobné vlastnosti v médiu malby.\nJiž pět let rozvíjí jemnost a 
 něhu k detailu v Miláně. Intimní\, niterné a introspektivní\, přev
 ážně figurativní kresby v decentní\, uměřené barevnosti.\n\nZuzana
  Pernicová *1987\nStudia:\n2008-2015 FaVU VUT Brno\, Ateliér malířstv
 í (prof. Martin Mainer\, doc. Luděk Rathouský)\n2013 Accademia di Brera
 \, Milano\, prof. Italo Bressan / Gaetano Bacco (stáž)\n2008-2010 FaVU V
 UT Brno\, Ateliér papír a kniha\, doc. Dr. Jiří H. Kocman\n2004-2008 S
 ŠUD Brno\, doc. Petr Veselý\n\nOcenění:\n2015 finalista Premio Carlo B
 onatto Minella\n\nhttps://www.zuzanapernicova.com\n\nVýstava potrvá do 1
 2. srpna 2018.\n\nHudba: Tomáš Hrubiš\nKurátor: Jan Karpíšek
ATTACH;FMTTYPE=image/jpeg:https://ponava.cafe/wp-content/uploads/2017/06/t
 apeta.jpg
CATEGORIES:Výstava
END:VEVENT
BEGIN:VTIMEZONE
TZID:Europe/Prague
X-LIC-LOCATION:Europe/Prague
BEGIN:DAYLIGHT
DTSTART:20180325T030000
TZOFFSETFROM:+0100
TZOFFSETTO:+0200
TZNAME:CEST
END:DAYLIGHT
END:VTIMEZONE
END:VCALENDAR