BEGIN:VCALENDAR
VERSION:2.0
PRODID:-//wp-events-plugin.com//7.2.3.1//EN
TZID:Europe/Prague
X-WR-TIMEZONE:Europe/Prague
BEGIN:VEVENT
UID:237@ponava.cafe
DTSTART;TZID=Europe/Prague:20190405T200000
DTEND;TZID=Europe/Prague:20190405T200000
DTSTAMP:20190307T101152Z
URL:https://ponava.cafe/udalosti/ondrej-smeykal/
SUMMARY:Ondřej Smeykal
DESCRIPTION:Srdečně zveme na komorní koncert českého hráče na austra
 lský lidový nástroj Didgeridoo. Ondřej Smeykal svým svérázným hude
 bním stylem již třetí dekádu propaguje hru na jeden z nejstarších n
 ástrojů světa. Přijdtě se zasnít....\n\nVstupné dobrovolné\, záž
 itky k nezaplacení :)\n\n
ATTACH;FMTTYPE=image/jpeg:https://ponava.cafe/wp-content/uploads/2017/06/t
 apeta.jpg
CATEGORIES:Koncert
END:VEVENT
BEGIN:VTIMEZONE
TZID:Europe/Prague
X-LIC-LOCATION:Europe/Prague
BEGIN:DAYLIGHT
DTSTART:20190331T030000
TZOFFSETFROM:+0100
TZOFFSETTO:+0200
TZNAME:CEST
END:DAYLIGHT
END:VTIMEZONE
END:VCALENDAR