BEGIN:VCALENDAR
VERSION:2.0
PRODID:-//wp-events-plugin.com//7.2.3.1//EN
TZID:Europe/Prague
X-WR-TIMEZONE:Europe/Prague
BEGIN:VEVENT
UID:451@ponava.cafe
DTSTART;TZID=Europe/Prague:20210731T200000
DTEND;TZID=Europe/Prague:20210731T213000
DTSTAMP:20210731T120606Z
URL:https://ponava.cafe/udalosti/oldrich-janota-david-doruzka-romana-silha
 va-uvidime-uslysime/
SUMMARY:Oldřich Janota\, David Dorůžka\, Romana Šilhavá - Uvidíme\, U
 slyšíme
DESCRIPTION:Legenda českého folku a undergroundu Oldřich Janota spolupra
 coval na své hudební pouti s řadou pozoruhodných osobností.\nTentokr
 át je to v projektu "Uvidíme\, Uslyšíme" kytarová supernova David Dor
 ůžka a zpěvačka a houslistka Romana Šilhavá\, která mj. zpívala i 
 v české verzi reprtoiru skupiny Magma.\n\nDavid Dorůžka - el.kytara\nO
 ldřich Janota - kytara\, zpěv\nRomana Šilhavá - viola\, zpěv\n-------
 --------------------------------------------------------------------------
 --------------------------------------------------------------------------
 -------------------------------------------------\n\nV rámci tohoto veče
 ra se můžete těšit navíc na společný projekt švédského kytaristy
  Alfa Carlssona a českého trumpetisty Jiřího Kotači.\nTyto dva muzika
 nty spojilo studium v nizozemském Rotterdamu a půl roku po jejich návra
 tu do rodných zemí i plánovaný výlet Alfa do ČR\, z kterého se nako
 nec stala krátká šňůra a posléze regulérní kapela\, která vydala 
 v listopadu 2019 kladně hodnocené album Journeys (Amplion Records) a ode
 hrála desítky koncertů na jazzových festivalech a v klubech ve Švéds
 ku\, Slovensku\, Německu a České republice.\nKapelu doplnili nejžádan
 ější slovenští jazzmani nejmladší generace - Peter Korman na kontra
 bas a Kristián Kuruc na bicí nástroje.\n\nVstupné dobrovolné\, záži
 tky k nezaplacení....
ATTACH;FMTTYPE=image/jpeg:https://ponava.cafe/wp-content/uploads/2021/07/2
 75ECABC-FEA6-4B89-8385-DC615594B10C-scaled.jpeg
CATEGORIES:Koncert
END:VEVENT
BEGIN:VTIMEZONE
TZID:Europe/Prague
X-LIC-LOCATION:Europe/Prague
BEGIN:DAYLIGHT
DTSTART:20210328T030000
TZOFFSETFROM:+0100
TZOFFSETTO:+0200
TZNAME:CEST
END:DAYLIGHT
END:VTIMEZONE
END:VCALENDAR