BEGIN:VCALENDAR
VERSION:2.0
PRODID:-//wp-events-plugin.com//7.2.3.1//EN
TZID:Europe/Prague
X-WR-TIMEZONE:Europe/Prague
BEGIN:VEVENT
UID:238@ponava.cafe
DTSTART;TZID=Europe/Prague:20190410T200000
DTEND;TZID=Europe/Prague:20190410T200000
DTSTAMP:20190307T121236Z
URL:https://ponava.cafe/udalosti/oldrich-janota-2/
SUMMARY:Oldřich Janota
DESCRIPTION:\n\n\n\nPísničkář Oldřich Janota se pohybuje v různých h
 udebních vodách od folkových balad až po experimentální meditativní
  minimalistické skladby ve stylu new age. Je to neúnavný hledač nepro
 šlapaných cest\, nezaměnitelný zpěvák a kytarista\, básník a pří
 ležitostne i britký fejetonista.\n\nhttp://www.oldrichjanota.com/\n\n\n\
 n\n&nbsp\;\n\n.                                       
                                           Vstup
 né dobrovolné\, zážitky k nezaplacení :)\n\n\n&nbsp\;\n\n\n\n
ATTACH;FMTTYPE=image/jpeg:https://ponava.cafe/wp-content/uploads/2017/06/t
 apeta.jpg
CATEGORIES:Koncert
END:VEVENT
BEGIN:VTIMEZONE
TZID:Europe/Prague
X-LIC-LOCATION:Europe/Prague
BEGIN:DAYLIGHT
DTSTART:20190331T030000
TZOFFSETFROM:+0100
TZOFFSETTO:+0200
TZNAME:CEST
END:DAYLIGHT
END:VTIMEZONE
END:VCALENDAR