BEGIN:VCALENDAR
VERSION:2.0
PRODID:-//wp-events-plugin.com//7.2.3.1//EN
TZID:Europe/Prague
X-WR-TIMEZONE:Europe/Prague
BEGIN:VEVENT
UID:401@ponava.cafe
DTSTART;TZID=Europe/Prague:20200813T183000
DTEND;TZID=Europe/Prague:20200813T190000
DTSTAMP:20200805T155710Z
URL:https://ponava.cafe/udalosti/odysea-mariana-friedla/
SUMMARY:Odysea Mariana Friedla
DESCRIPTION:Odysea Mariana Friedla je nový hudební projekt\, který tvoř
 í jazzové jádro úspěšného ansámblu Beránci a vlci (stejnojmenná 
 deska získala hudební cenu Anděl 2017)\, doplněné o folklorní zpěva
 čku a houslistku ze Slovácka Petru Jelénkovou. Kapela hraje předevší
 m repertoár z připravované desky 11 podob lásky věnované památce Ji
 tky Šuranské (vyjde u Indies Scope 28. 10. 2020) a výběr písní z des
 ky Beránci a vlci. Stylově je projev projektu rozkročen mezi folkem\, f
 olklorem\, jazzem a world music. Další informace zde: www.11podoblasky.c
 z\n\nHrají:\nMarian Friedl - zpěv\, píšťaly\, klarinet\, kobza\, mal
 ý cimbál\nPetra Jelénková - zpěv\, housle\nŠtěpán Flagar - soprán
  saxofon\nRostislav Hus - kytara\nMartin Kocián - kontrabas\nMichal Wierz
 goń - bicí\, perkuse\n\nKoncerty jsou u nás stále za dobrovolně vstup
 né\, ale těch nejlepších míst není zas tak mnoho. Pokud chcete mít
  jistotu\, že dobře uvidíte a uslyšíte\, kupte si místenku! Může
 te si ji rezervovat online na: www.ponavafest.cz/rezervace/\nHannover-Brno
  Trio / Odysea Mariana Friedla / Jaromír Honzák Quintet - Místenka: 25
 0 Kč\n\n\nKoncert probíhá ve spolupráci s Maratonem hudby Brno\n\n\n\n
ATTACH;FMTTYPE=image/jpeg:https://ponava.cafe/wp-content/uploads/2017/06/t
 apeta.jpg
CATEGORIES:Festival,Koncert
END:VEVENT
BEGIN:VTIMEZONE
TZID:Europe/Prague
X-LIC-LOCATION:Europe/Prague
BEGIN:DAYLIGHT
DTSTART:20200329T030000
TZOFFSETFROM:+0100
TZOFFSETTO:+0200
TZNAME:CEST
END:DAYLIGHT
END:VTIMEZONE
END:VCALENDAR