BEGIN:VCALENDAR
VERSION:2.0
PRODID:-//wp-events-plugin.com//7.2.3.1//EN
TZID:Europe/Prague
X-WR-TIMEZONE:Europe/Prague
BEGIN:VEVENT
UID:421@ponava.cafe
DTSTART;TZID=Europe/Prague:20201023T200000
DTEND;TZID=Europe/Prague:20201023T210000
DTSTAMP:20201007T083433Z
URL:https://ponava.cafe/udalosti/odlozeno-na-rijen-urband-ponava/
SUMMARY:Odloženo na říjen! Urband PONAVA - ZRUŠENO
DESCRIPTION:"Zachadite k nam na ogonyok\, motáme tu lidský teplo a zimu r
 uský ulice\, kdo se jmenuje vodka\, musí co nejblíže\, další zažehn
 eme silou první hudby."\nPouliční šraml\, který nasaje píseň do sv
 ého kostitřasného soukolí a semele ji do podoby\, která připomíná 
 řev vycházející z podezřelého lokálu po zavíračce.\nZahrají vám
 \nVladimír Červenka / kytara\, zpěv\nPavel Všianský / kontrabas\, zp
 ěv\nTomáš Vtípil / housle\, zpěv\n\nhttps://www.youtube.com/watch?v=2
 wylhevF0dE
ATTACH;FMTTYPE=image/jpeg:https://ponava.cafe/wp-content/uploads/2017/06/t
 apeta.jpg
CATEGORIES:Koncert
END:VEVENT
BEGIN:VTIMEZONE
TZID:Europe/Prague
X-LIC-LOCATION:Europe/Prague
BEGIN:DAYLIGHT
DTSTART:20200329T030000
TZOFFSETFROM:+0100
TZOFFSETTO:+0200
TZNAME:CEST
END:DAYLIGHT
END:VTIMEZONE
END:VCALENDAR