BEGIN:VCALENDAR
VERSION:2.0
PRODID:-//wp-events-plugin.com//7.2.3.1//EN
TZID:Europe/Prague
X-WR-TIMEZONE:Europe/Prague
BEGIN:VEVENT
UID:482@ponava.cafe
DTSTART;TZID=Europe/Prague:20211009T200000
DTEND;TZID=Europe/Prague:20211009T220000
DTSTAMP:20210928T173412Z
URL:https://ponava.cafe/udalosti/odbo-oqpo/
SUMMARY:Odbo Oqpo
DESCRIPTION:Slovinsko-italské trio vytvářející zvukový mix psychedeli
 cké improvizované hudby od soudobých elektroakustických skladeb až po
  freejazz à la Sun Ra...\n\nAlberto Novello - modular synthesizer\nPaolo 
 Pascolo - flutes and electronics\nVid Drasler - drums and percussions\n\nV
 stupné dobrovolné\, zážitky k nezaplacení...
ATTACH;FMTTYPE=image/jpeg:https://ponava.cafe/wp-content/uploads/2021/09/L
 ogoPicture-scaled.jpg
CATEGORIES:Koncert
END:VEVENT
BEGIN:VTIMEZONE
TZID:Europe/Prague
X-LIC-LOCATION:Europe/Prague
BEGIN:DAYLIGHT
DTSTART:20210328T030000
TZOFFSETFROM:+0100
TZOFFSETTO:+0200
TZNAME:CEST
END:DAYLIGHT
END:VTIMEZONE
END:VCALENDAR