BEGIN:VCALENDAR
VERSION:2.0
PRODID:-//wp-events-plugin.com//7.2.3.1//EN
TZID:Europe/Prague
X-WR-TIMEZONE:Europe/Prague
BEGIN:VEVENT
UID:277@ponava.cafe
DTSTART;TZID=Europe/Prague:20190724T190000
DTEND;TZID=Europe/Prague:20190724T190000
DTSTAMP:20190705T115057Z
URL:https://ponava.cafe/udalosti/nts-nejtek-tichy-smetacek/
SUMMARY:NTS - Nejtek\, Tichý\, Smetáček
DESCRIPTION:NTS – Nejtek\, Tichý\, Smetáček vydali v roce 2017 své t
 řetí studiové album Zapporn0 na značce Amplion Records. Jeho producent
 em a zvukovým režisérem je londýnský hudebník\, polovina legendárn
 ích Basement Jaxx Simon Ratcliffe. Album bylo realizováno na vinylu a ja
 ko download.\n\nTrio Michal Nejtek - skladatel a klávesista (spolupráce 
 David Koller\, Michal Pavlíček\, AGON Orchestra\, Face Of The Bass\, tri
 o Malina\, Liška\, Nejtek …)\, Petr Tichý - kontrabas\, elektronika (R
 idina Ahmedová\, Bran\, Alvik\, Vesna Caceres\, Pavol Hammel…) a Štěp
 án Smetáček - bicí\, elektronika (hrál s plejádou hudebníků včetn
 ě skupiny Lucie\, Lenky Dusilové či Jamese Harriese\, v souč. době Wa
 nastowi Vjecy a Krausberry) působí na naší scéně jako zjevení aneb 
 čekejte nečekané.\n\nNa koncertech se můžete setkat s volnou\, někdy
  i jazzovou improvizací\, současnou taneční hudbou i rockem. Husarský
  kousek se podařil triu v roce 2015\, kdy v Londýně natáčelo ve spolu
 práci se členy legendárního „elektronického“ dua Basement Jaxx. T
 ato spolupráce vyústila ve zmíněné album Zapporn0. NTS to sluší př
 edevším na multižánrových scénách.\n\nVstupné dobrovolné\, záži
 tky k nezaplacení. 🙂\n\n
ATTACH;FMTTYPE=image/jpeg:https://ponava.cafe/wp-content/uploads/2017/06/t
 apeta.jpg
CATEGORIES:Koncert
END:VEVENT
BEGIN:VTIMEZONE
TZID:Europe/Prague
X-LIC-LOCATION:Europe/Prague
BEGIN:DAYLIGHT
DTSTART:20190331T030000
TZOFFSETFROM:+0100
TZOFFSETTO:+0200
TZNAME:CEST
END:DAYLIGHT
END:VTIMEZONE
END:VCALENDAR