BEGIN:VCALENDAR
VERSION:2.0
PRODID:-//wp-events-plugin.com//7.2.3.1//EN
TZID:Europe/Prague
X-WR-TIMEZONE:Europe/Prague
BEGIN:VEVENT
UID:430@ponava.cafe
DTSTART;TZID=Europe/Prague:20210101T130000
DTEND;TZID=Europe/Prague:20210101T140000
DTSTAMP:20201229T083130Z
URL:https://ponava.cafe/udalosti/novorocni-beh-luzankami/
SUMMARY:Novoroční běh Lužánkami - každý po svém
DESCRIPTION:Navazujeme na loňský první ročník běhu Lužánkami a tě
 šíme se na druhé kolo! Kvůli platným opatřením však běh nebude ni
 jak organizovaný\, ani původně plánovaně štafetový.\nUdělejte i ta
 k něco pro své zdraví a přijďte s námi na Nový rok vyběhat silvest
 rovskou kocovinku a cukroví od maminky. Protože - jak na Nový rok\, tak
  po celý rok!\nKaždý si u nás od 13hod může za dobrovolný příspě
 vek odnést talíř novoroční čočkové polévky.\nVstupné dobrovolné
 \, zážitky k nezaplacení
ATTACH;FMTTYPE=image/jpeg:https://ponava.cafe/wp-content/uploads/2017/06/t
 apeta.jpg
CATEGORIES:Sport
END:VEVENT
BEGIN:VTIMEZONE
TZID:Europe/Prague
X-LIC-LOCATION:Europe/Prague
BEGIN:STANDARD
DTSTART:20201025T020000
TZOFFSETFROM:+0200
TZOFFSETTO:+0100
TZNAME:CET
END:STANDARD
END:VTIMEZONE
END:VCALENDAR