BEGIN:VCALENDAR
VERSION:2.0
PRODID:-//wp-events-plugin.com//7.2.3.1//EN
TZID:Europe/Prague
X-WR-TIMEZONE:Europe/Prague
BEGIN:VEVENT
UID:407@ponava.cafe
DTSTART;TZID=Europe/Prague:20200826T200000
DTEND;TZID=Europe/Prague:20200826T220000
DTSTAMP:20200804T061115Z
URL:https://ponava.cafe/udalosti/nocz-a-choir/
SUMMARY:NOCZ & Choir
DESCRIPTION:\nOsobitý charakter hudbě norsko-české formace udává inte
 rpretace skladeb norského trumpetisty Didrika Ingvaldsena\, které kombin
 ují současné trendy v experimentálním jazzu s klasickými free jazzov
 ými postupy a tradičním obsazením kapely ve složení trubka\, saxofon
 \, kontrabas a bicí. Typická je velmi energická hra s výraznými dynam
 ickými zlomy\, kombinace prokomponovaných pasáží s volnými plochami\
 , výrazná melodika\, významná práce s rytmem v kompoziční práci i 
 kolektivní improvizace.\n\n\nLídrem této norsko‐české formace je tr
 umpetista a skladatel Didrik Ingvaldsen (1960). Působí současně na jaz
 zových experimentálních scénách v Norsku\, Berlíně a New Yorku\, m
 á za sebou vydání dvou desítek alb s autorskou hudbou\, je autorem mno
 ha kompozic pro nejrůznější ansámbly od duet po symfonický orchestr.
  \nKvartet NOCZ existuje již 10 let\, vydal 4 alba (druhé z nich s Ivou 
 Bittovou)\, koncertoval po celé České republice a v řadě zemí Evropy
  (Německo\, Polsko\, Slovensko\, Maďarsko\, Velká Británie\, Norsko). 
 Na Ponavafestu kvartet představí hudbu z posledního alba Sailor on dry 
 Land (Hevhetia 2018)\, k jehož realizaci přizval experimentální pěvec
 ký sbor. Inspirací ke vzniku tohoto alba byla Didriku Ingvaldsenovi poez
 ie španělského surrealistického básníka Rafaela Albertiho (1902-1999
 ): “Albertiho slova\, myšlenky a úvahy mě přiměly zkomponovat tuto 
 hudbu\, nejdříve pro sólové housle\, potom pro celý ansámbl. Doufám
 \, že si ji užijete stejně jako si ji užíváme my. Příjemný poslec
 h.”\nDidrik Ingvaldsen – trubka\nRadim Hanousek – saxofony\nMarian F
 riedl – kontrabas\nJakub Švejnar – bicí\npěvecký sbor pod vedením
  Jany Vondrů\n\n\nKoncerty jsou u nás stále za dobrovolně vstupné\, 
 ale těch nejlepších míst není zas tak mnoho. Pokud chcete mít jistot
 u\, že dobře uvidíte a uslyšíte\, kupte si místenku! Můžete si j
 i rezervovat online na: www.ponavafest.cz/rezervace/\n\n\n\n\n\nVstupné d
 obrovolné\, Místenka 170 Kč\n\n
ATTACH;FMTTYPE=image/jpeg:https://ponava.cafe/wp-content/uploads/2017/06/t
 apeta.jpg
CATEGORIES:Festival,Koncert
END:VEVENT
BEGIN:VTIMEZONE
TZID:Europe/Prague
X-LIC-LOCATION:Europe/Prague
BEGIN:DAYLIGHT
DTSTART:20200329T030000
TZOFFSETFROM:+0100
TZOFFSETTO:+0200
TZNAME:CEST
END:DAYLIGHT
END:VTIMEZONE
END:VCALENDAR