BEGIN:VCALENDAR
VERSION:2.0
PRODID:-//wp-events-plugin.com//7.2.3.1//EN
TZID:Europe/Prague
X-WR-TIMEZONE:Europe/Prague
BEGIN:VEVENT
UID:374@ponava.cafe
DTSTART;TZID=Europe/Prague:20200924T200000
DTEND;TZID=Europe/Prague:20200924T220000
DTSTAMP:20200821T081239Z
URL:https://ponava.cafe/udalosti/nejtek-wroblewski-klapste/
SUMMARY:Nejtek / Wróblewski / Klápště
DESCRIPTION:\nProjekt čtyř výrazných osobností české hudební scény
 \, které působí v různých tělesech napříč žánry. Kapela kombinu
 je vlivy jazzové tradice\, současné vážné hudby\, hudby lidové a im
 provizace.\n\n\nMichal Nejtek je významný skladatel soudobé hudby\, jak
 o interpret působí například v NTS\, Malina-Liška-Nejtek nebo v kapel
 e Michala Pavlíčka. Miloš Klápště je jedním z nejvyhledávanějš
 ích basistů v Čechách (Aneta Langerová\, Beata Hlavenková\, Dorota B
 arová\, Janoušek-Wróblewski Quartet...) Michal Wróblewski je leadrem n
 ěkolika českých\, norských i mezinárodních těles (E Converso\, KIAP
 \, MW Ensemble\, Swomp\, Janoušek-Wróblewski Quartet)\nJan Chalupa je or
 iginální bubeník s nezaměnitelnou energií\, působí v různých usku
 peních napříč žánry\, například: E Converso\, Talaqpo\, Paliome\, 
 Pražský Improvizační Orchestr\, Voila nebo Jananas. Účasní se jazzo
 vých\, experimentálních\, soudobě-klasických i popových projektů hu
 debníků z celého světa.\n\n Michal Nejtek- klavír\nMiloš Klápště
 - kontrabas\nMichal Wróblewski- saxofon\nJan Chalupa- bicí\n\nhttps://ww
 w.youtube.com/watch?v=8KomO6fDDPI&amp\;t=66shttps://www.youtube.com/watch?
 v=iegWMdaZYnw\n\nhttps://www.youtube.com/watch?v=LpliLxqhrKg\n\n
ATTACH;FMTTYPE=image/jpeg:https://ponava.cafe/wp-content/uploads/2017/06/t
 apeta.jpg
CATEGORIES:Koncert
END:VEVENT
BEGIN:VTIMEZONE
TZID:Europe/Prague
X-LIC-LOCATION:Europe/Prague
BEGIN:DAYLIGHT
DTSTART:20200329T030000
TZOFFSETFROM:+0100
TZOFFSETTO:+0200
TZNAME:CEST
END:DAYLIGHT
END:VTIMEZONE
END:VCALENDAR