BEGIN:VCALENDAR
VERSION:2.0
PRODID:-//wp-events-plugin.com//7.2.3.1//EN
TZID:Europe/Prague
X-WR-TIMEZONE:Europe/Prague
BEGIN:VEVENT
UID:293@ponava.cafe
DTSTART;TZID=Europe/Prague:20190820T190000
DTEND;TZID=Europe/Prague:20190820T190000
DTSTAMP:20190729T081554Z
URL:https://ponava.cafe/udalosti/navratil-quartet/
SUMMARY:Navratil Quartet
DESCRIPTION:Kapela si poprvé spolu zahrála v létě 2013 a od té doby se
  scházi pouze při vyjímečných příležitostech. Repertoárem a motiv
 ací se stalo období konce 80. let a tehdejšího progresivniho “loud
 ” jazzu.\n\nVstupné dobrovolné\, zážitky k nezaplacení. :)\n\n
ATTACH;FMTTYPE=image/jpeg:https://ponava.cafe/wp-content/uploads/2017/06/t
 apeta.jpg
CATEGORIES:Koncert
END:VEVENT
BEGIN:VTIMEZONE
TZID:Europe/Prague
X-LIC-LOCATION:Europe/Prague
BEGIN:DAYLIGHT
DTSTART:20190331T030000
TZOFFSETFROM:+0100
TZOFFSETTO:+0200
TZNAME:CEST
END:DAYLIGHT
END:VTIMEZONE
END:VCALENDAR