BEGIN:VCALENDAR
VERSION:2.0
PRODID:-//wp-events-plugin.com//7.2.3.1//EN
TZID:Europe/Prague
X-WR-TIMEZONE:Europe/Prague
BEGIN:VEVENT
UID:596@ponava.cafe
DTSTART;TZID=Europe/Prague:20220916T190000
DTEND;TZID=Europe/Prague:20220916T210000
DTSTAMP:20220830T100956Z
URL:https://ponava.cafe/udalosti/navratil-bros/
SUMMARY:Navratil Bros.
DESCRIPTION:Navratil Brothers /Brno-Zlín/ \nakustické duo hrající přev
 ážně autorskou tvorbu Miloše Navrátila aka „Dundeeho“\, kytaristy
 \, zpěváka a písničkáře\, který svůj zdroj inspirace nachází zej
 ména  v moderním americkém blues/country.\n\nMiloslav „Dundee“ Na
 vrátil – ak. kytara\, zpěv\nJan Navrátil – el. kytara \n\nVstupné 
 dobrovolné\, zážitky k nezaplacení....
ATTACH;FMTTYPE=image/jpeg:https://ponava.cafe/wp-content/uploads/2021/10/n
 avratil-bros.jpg
CATEGORIES:Koncert
END:VEVENT
BEGIN:VTIMEZONE
TZID:Europe/Prague
X-LIC-LOCATION:Europe/Prague
BEGIN:DAYLIGHT
DTSTART:20220327T030000
TZOFFSETFROM:+0100
TZOFFSETTO:+0200
TZNAME:CEST
END:DAYLIGHT
END:VTIMEZONE
END:VCALENDAR