BEGIN:VCALENDAR
VERSION:2.0
PRODID:-//wp-events-plugin.com//7.2.3.1//EN
TZID:Europe/Prague
X-WR-TIMEZONE:Europe/Prague
BEGIN:VEVENT
UID:636@ponava.cafe
DTSTART;TZID=Europe/Prague:20230315T200000
DTEND;TZID=Europe/Prague:20230315T220000
DTSTAMP:20230227T101431Z
URL:https://ponava.cafe/udalosti/muzikanti_na_tripu/
SUMMARY:Muzikanti_na_tripu
DESCRIPTION:Muzikanti na tripu\, rádi cestují v autě nebo na kole a hrá
 vají převážně v kavárnách či barech.\n\nUskupení se skládá ze d
 vou profesionálních muzikantů\, Marka a Lukáše\, kteří hrají na ž
 esťové nástroje s láskou a radostí. Doražte na nezapomenutelný zá
 žitek.\n\nOd jazzu a swingu přes kouzlo brazilské bossanovy až po popu
 lární hudební pecky. Každý posluchač si tak příjde na své. Hraj
 í prostě to\, co je baví\, protože radost se pak lépe přenáší i n
 a posluchače všech věkových skupin. Kvalitní popové písně\, které
  mají rádi\, upravují do „najjazlých“ aranží. Dokáží tak zauj
 mout posluchače ve fázi odpolední či podvečerní pohodičky\, jakož 
 i uspokojit tanečníky. Propojení těchto hudebních stylů krásně zap
 adá do kouzelné hudební atmosféry.\n\nDoporučené dobrovolné vstupn
 é 150Kč\n\nVstupné dobrovolné - zážitky k nezaplacení
ATTACH;FMTTYPE=image/jpeg:https://ponava.cafe/wp-content/uploads/2023/02/3
 15635411_143868355068296_8900617081955758781_n.jpg
CATEGORIES:Koncert
END:VEVENT
BEGIN:VTIMEZONE
TZID:Europe/Prague
X-LIC-LOCATION:Europe/Prague
BEGIN:STANDARD
DTSTART:20221030T020000
TZOFFSETFROM:+0200
TZOFFSETTO:+0100
TZNAME:CET
END:STANDARD
END:VTIMEZONE
END:VCALENDAR