BEGIN:VCALENDAR
VERSION:2.0
PRODID:-//wp-events-plugin.com//7.2.3.1//EN
TZID:Europe/Prague
X-WR-TIMEZONE:Europe/Prague
BEGIN:VEVENT
UID:98@ponava.cafe
DTSTART;TZID=Europe/Prague:20180513T190000
DTEND;TZID=Europe/Prague:20180513T190000
DTSTAMP:20180507T061608Z
URL:https://ponava.cafe/udalosti/michal-wroblewski-kiap/
SUMMARY:Michal Wróblewski: KIAP
DESCRIPTION:Trio Kiap hraje hudbu energickou a extrovertní \, čerpá insp
 iraci z americké jazzové avantgardy\, rocku \, metalu i evropské vážn
 é hudby. Melodicky neotřelé kompozice ve spojení s rockovou expresivit
 ou\, bezprostřední interakcí a improvizací vytváří projekt\, který
  je na norské scéně výjimečný a i díky tomu si za tři roky existen
 ce kapela vydobyla na této scéně slušné postavení.\n\nTěleso vystou
 pilo na festivalech a koncertech v Norsku\, Holandsku\,Dánsku\,Polsku\,Sl
 ovensku\,České Republice a Japonsku. V roce 2016 skupina vydala debutov
 é eponymní album u vydavatelství Hevhetia\, v letošním roce vychází
  album druhé s hostujících německým saxofonistou a klarinetistou Fran
 kem Gratkowskim.\n\nwebové stránky: http://www.kiaptrio.com\n\nfacebook
  : https://www.facebook.com/kiapband/\n\nsoundcloud : https://soundcloud
 .com/kiap-3
ATTACH;FMTTYPE=image/jpeg:https://ponava.cafe/wp-content/uploads/2017/06/t
 apeta.jpg
CATEGORIES:Koncert
END:VEVENT
BEGIN:VTIMEZONE
TZID:Europe/Prague
X-LIC-LOCATION:Europe/Prague
BEGIN:DAYLIGHT
DTSTART:20180325T030000
TZOFFSETFROM:+0100
TZOFFSETTO:+0200
TZNAME:CEST
END:DAYLIGHT
END:VTIMEZONE
END:VCALENDAR