BEGIN:VCALENDAR
VERSION:2.0
PRODID:-//wp-events-plugin.com//7.2.3.1//EN
TZID:Europe/Prague
X-WR-TIMEZONE:Europe/Prague
BEGIN:VEVENT
UID:134@ponava.cafe
DTSTART;TZID=Europe/Prague:20180622T190000
DTEND;TZID=Europe/Prague:20180622T190000
DTSTAMP:20180510T082028Z
URL:https://ponava.cafe/udalosti/meluzina/
SUMMARY:Meluzína
DESCRIPTION:Meluzína\, písničkářka a pouliční muzikantka\, pokud zro
 vna necestuje\, přebývá a tvoří v lesích Myjavské pahorkatiny\, v b
 ájné zemi zvané Slovensko. Její písně\, doprovázené akustickou kyt
 arou\, jsou inspirovány folklorem divokých zemí\, oděné ve folkovém 
 šatě\, pořádně okořeněné balkánsko-cikánskými rytmy a zahrané 
 s nespoutanou energií punku. Všude kam přiletí\, se strhne nefalšovan
 ý bašavel.\n\n
ATTACH;FMTTYPE=image/jpeg:https://ponava.cafe/wp-content/uploads/2017/06/t
 apeta.jpg
CATEGORIES:Koncert
END:VEVENT
BEGIN:VTIMEZONE
TZID:Europe/Prague
X-LIC-LOCATION:Europe/Prague
BEGIN:DAYLIGHT
DTSTART:20180325T030000
TZOFFSETFROM:+0100
TZOFFSETTO:+0200
TZNAME:CEST
END:DAYLIGHT
END:VTIMEZONE
END:VCALENDAR