BEGIN:VCALENDAR
VERSION:2.0
PRODID:-//wp-events-plugin.com//7.2.3.1//EN
TZID:Europe/Prague
X-WR-TIMEZONE:Europe/Prague
BEGIN:VEVENT
UID:233@ponava.cafe
DTSTART;TZID=Europe/Prague:20190308T200000
DTEND;TZID=Europe/Prague:20190308T220000
DTSTAMP:20190220T153514Z
URL:https://ponava.cafe/udalosti/meluzina-2/
SUMMARY:Meluzína
DESCRIPTION:Sára Hulíková\, písničkářka\, pouliční muzikantka a ce
 stovatelka se základnou v lesích Myjavské pahorkatiny\, v bájné zemi 
 zvané Slovensko. Její písně\, doprovázené akustickou kytarou\, jsou 
 inspirovány folklorem divokých zemí\, oděné ve folkovém šatě\, po
 řádně okořeněné balkánsko-cikánskými rytmy gypsy punku a zahrané
  s nespoutanou energií punku. Všude\, kam přiletí\, se strhne nefalšo
 vaný bašável.\n\nVstupné dobrovolné\, zážitky k nezaplacení :)\n\n
ATTACH;FMTTYPE=image/jpeg:https://ponava.cafe/wp-content/uploads/2017/06/t
 apeta.jpg
CATEGORIES:Koncert
END:VEVENT
BEGIN:VTIMEZONE
TZID:Europe/Prague
X-LIC-LOCATION:Europe/Prague
BEGIN:STANDARD
DTSTART:20181028T020000
TZOFFSETFROM:+0200
TZOFFSETTO:+0100
TZNAME:CET
END:STANDARD
END:VTIMEZONE
END:VCALENDAR