BEGIN:VCALENDAR
VERSION:2.0
PRODID:-//wp-events-plugin.com//7.2.3.1//EN
TZID:Europe/Prague
X-WR-TIMEZONE:Europe/Prague
BEGIN:VEVENT
UID:324@ponava.cafe
DTSTART;TZID=Europe/Prague:20191113T180000
DTEND;TZID=Europe/Prague:20191113T180000
DTSTAMP:20191028T212335Z
URL:https://ponava.cafe/udalosti/martina-trchova-a-prune/
SUMMARY:Martina Trchová a Prune
DESCRIPTION:Dvě skvělé písničkářky\, každá za sebe i obě spolu. S
 etkání dvou magických světů na jednom pódiu\, jedinečné hudební p
 ropojení a večer nabitý silnými písněmi. A krom toho\, že každá v
 ystoupí zvlášť se svým projektem\, vytvoří též ojedinělé spole
 čné aranže.\n\nPRUNE vydala svoji debutovou desku Kruhy pod producentsk
 ým dohledem Martina E. Kyšperského (Květy). Komorní a jemné písnič
 ky navzdory melancholii překypují nadějí a pozitivním viděním svět
 a. Chvíli je to průzračně čistý folk\, chvíli barově zamyšlený 
 šanson\, jazzové cítění se míchá se soulovými barvami hlasu.\nhttp
 s://prunemusic.bandcamp.com/\n\nMARTINA TRCHOVÁ\, jedna z nejvýraznějš
 ích osobností naší písničkářské scény\, je držitelkou ceny And
 ěl v kategorii Folk za album Holobyt. Martina je také autorkou cestopisn
 é knihy Deníky z Ladakhu\, věnuje se výtvarnému umění a společně 
 s Adamem Kubátem vystupuje s programem písní Zuzany Navarové.\nhttp://
 trchova.cz/en/home-3/\n\nVstupné dobrovolné\, zážitky k nezaplacení. 
 🙂
ATTACH;FMTTYPE=image/jpeg:https://ponava.cafe/wp-content/uploads/2017/06/t
 apeta.jpg
CATEGORIES:Koncert
END:VEVENT
BEGIN:VTIMEZONE
TZID:Europe/Prague
X-LIC-LOCATION:Europe/Prague
BEGIN:STANDARD
DTSTART:20191027T020000
TZOFFSETFROM:+0200
TZOFFSETTO:+0100
TZNAME:CET
END:STANDARD
END:VTIMEZONE
END:VCALENDAR