BEGIN:VCALENDAR
VERSION:2.0
PRODID:-//wp-events-plugin.com//7.2.3.1//EN
TZID:Europe/Prague
X-WR-TIMEZONE:Europe/Prague
BEGIN:VEVENT
UID:116@ponava.cafe
DTSTART;TZID=Europe/Prague:20180502T190000
DTEND;TZID=Europe/Prague:20180502T190000
DTSTAMP:20180429T153939Z
URL:https://ponava.cafe/udalosti/martin-konvicka-trio/
SUMMARY:Korman Konvička Kvintet
DESCRIPTION:Autorský repertoár klavíristy Martina Konvičky a kontrabasi
 sty Petera Kormana v podání kvinteta se dvěmi saxofony. Hudba na pomez
 í post-bopu a moderního evropského jazzu.\n\n&nbsp\;\n\nMartin Konvičk
 a - klavír\n\nPeter Korman - kontrabas\n\nRadek Zapadlo - tenorsaxofon\n\
 nMarek Kotača - altsaxofon\n\nKristian Kuruc - bicí\n\n&nbsp\;
ATTACH;FMTTYPE=image/jpeg:https://ponava.cafe/wp-content/uploads/2017/06/t
 apeta.jpg
CATEGORIES:Koncert
END:VEVENT
BEGIN:VTIMEZONE
TZID:Europe/Prague
X-LIC-LOCATION:Europe/Prague
BEGIN:DAYLIGHT
DTSTART:20180325T030000
TZOFFSETFROM:+0100
TZOFFSETTO:+0200
TZNAME:CEST
END:DAYLIGHT
END:VTIMEZONE
END:VCALENDAR