BEGIN:VCALENDAR
VERSION:2.0
PRODID:-//wp-events-plugin.com//7.2.3.1//EN
TZID:Europe/Prague
X-WR-TIMEZONE:Europe/Prague
BEGIN:VEVENT
UID:270@ponava.cafe
DTSTART;TZID=Europe/Prague:20190712T190000
DTEND;TZID=Europe/Prague:20190712T190000
DTSTAMP:20190625T124632Z
URL:https://ponava.cafe/udalosti/martin-konvicka-trio-2/
SUMMARY:Martin Konvička Trio
DESCRIPTION:Útulnost se mění v slizkou vlhkost.“\n„Hovoří s jistot
 ou kladiva.“\n„Je štěstí mít soupeře\, kteří jsou tvou součás
 tí.“\n\nStoprocentní nasazení tří předních mladých českoslovens
 kých hudebníků nabourává zvyklosti a tvoří inspirativní celek.\n\n
 Na koncertě je zákaz mluvení\, smíchu\, pití alkoholu (i piva)\, konz
 umace jiných omamných látek\, jídla\, zákaz vyzývavého oblečení u
  můžu\, zákaz kritických nebo pochvalných poznámek\, zákaz názorů
  všeho druhu na cokoliv\, zákaz askeze\, zákaz hrdosti\, zákaz pokory 
 a zákaz pokůsu o konverzaci s hudebníky před i po koncertě.\nDěkujem
 e. Zákaz tleskání ještě.\n\nVstupné dobrovolné\, zážitky k nezapl
 acení. 🙂\n\n&nbsp\;\n\n
ATTACH;FMTTYPE=image/jpeg:https://ponava.cafe/wp-content/uploads/2017/06/t
 apeta.jpg
CATEGORIES:Koncert
END:VEVENT
BEGIN:VTIMEZONE
TZID:Europe/Prague
X-LIC-LOCATION:Europe/Prague
BEGIN:DAYLIGHT
DTSTART:20190331T030000
TZOFFSETFROM:+0100
TZOFFSETTO:+0200
TZNAME:CEST
END:DAYLIGHT
END:VTIMEZONE
END:VCALENDAR