BEGIN:VCALENDAR
VERSION:2.0
PRODID:-//wp-events-plugin.com//7.2.3.1//EN
TZID:Europe/Prague
X-WR-TIMEZONE:Europe/Prague
BEGIN:VEVENT
UID:947@ponava.cafe
DTSTART;TZID=Europe/Prague:20260521T180000
DTEND;TZID=Europe/Prague:20260521T200000
DTSTAMP:20260419T121045Z
URL:https://ponava.cafe/udalosti/martin-forman-vernaz/
SUMMARY:MARTIN FORMAN: Struktura Vědomí / VERNISÁŽ
DESCRIPTION:Martin Forman zvaný Marfy je autorem specifických obrazů\, i
 nspirovaných přírodou a principy univerza. Přijde vhlédnout do struk
 tur řádu chaosu a chaosu řádu. Do jedinečných záznamů myšlenkov
 ých procesů rozbíhajících se všesměrně s vůlí nalezení společn
 ého jmenovatele\, uvozujícího smysl bytí. Jste srdečně vítáni v M
 artinově světě jedinečné „harmonizace vizuálního prostoru.“ Hu
 dební produkce: kapela Helemese
ATTACH;FMTTYPE=image/jpeg:https://ponava.cafe/wp-content/uploads/2026/04/i
 mg-20260403-wa0000.jpg
END:VEVENT
BEGIN:VTIMEZONE
TZID:Europe/Prague
X-LIC-LOCATION:Europe/Prague
BEGIN:DAYLIGHT
DTSTART:20260329T030000
TZOFFSETFROM:+0100
TZOFFSETTO:+0200
TZNAME:CEST
END:DAYLIGHT
END:VTIMEZONE
END:VCALENDAR