BEGIN:VCALENDAR
VERSION:2.0
PRODID:-//wp-events-plugin.com//7.2.3.1//EN
TZID:Europe/Prague
X-WR-TIMEZONE:Europe/Prague
BEGIN:VEVENT
UID:70@ponava.cafe
DTSTART;TZID=Europe/Prague:20180124T190000
DTEND;TZID=Europe/Prague:20180124T190000
DTSTAMP:20180111T212201Z
URL:https://ponava.cafe/udalosti/marek-kotaca-trio/
SUMMARY:Marek Kotača trio
DESCRIPTION:Marek Kotača trio spojuje Janáčkova akademie múzických um
 ění v Brně. Přestože se uskupení zabývá moderním zvukem jazzovéh
 o tria bez harmonického nástroje\, objevují se v kompozicích i jiné 
 žánrové vlivy. Repertoár se skládá z autorských kompozic a jazzový
 ch standardů.\nKontrabas – Peter Korman\nBicí nístroje . Kristián Ku
 ruc\nSaxofony – Marek Kotača\n\n
ATTACH;FMTTYPE=image/jpeg:https://ponava.cafe/wp-content/uploads/2017/06/t
 apeta.jpg
CATEGORIES:Koncert
END:VEVENT
BEGIN:VTIMEZONE
TZID:Europe/Prague
X-LIC-LOCATION:Europe/Prague
BEGIN:STANDARD
DTSTART:20171029T020000
TZOFFSETFROM:+0200
TZOFFSETTO:+0100
TZNAME:CET
END:STANDARD
END:VTIMEZONE
END:VCALENDAR