BEGIN:VCALENDAR
VERSION:2.0
PRODID:-//wp-events-plugin.com//7.2.3.1//EN
TZID:Europe/Prague
X-WR-TIMEZONE:Europe/Prague
BEGIN:VEVENT
UID:94@ponava.cafe
DTSTART;TZID=Europe/Prague:20180427T193000
DTEND;TZID=Europe/Prague:20180427T193000
DTSTAMP:20180424T141912Z
URL:https://ponava.cafe/udalosti/marcus-beuter-with-jazz/
SUMMARY:Marcus Beuter with jazz
DESCRIPTION:Marcus Beuter je původem německý skladatel elektro-akustick
 é hudby\, improvizátor a hlavně umělec pracující se zvukem. Co si po
 d tímto obecným termínem představit? Zaměřuje se především na nah
 rávky v terénu a vztahy zvuků a prostředí\, ve kterém se nachází. 
 Právě zvukům každodenního života přináší nové prostory a kontex
 ty.\n\nV PONAVĚ se představí v elektro-akustickém projektu s moravský
 mi otevřenými hudebníky.\n\nMarian Friedl\nJe stálým členem několik
 a hudebních projektů různého zaměření\, v nichž zpívá\, hraje na
  kontrabas\, lidové flétny\, klarinet nebo malý cimbál. Free jazz hraj
 e například s norsko-českým kvartetem NOCZ\, avantgardní soudobou hud
 bu s Didrik Ingvaldsen Orchestra\, world music se věnuje v projektu Jitka
  Šuranská Trio nebo Mateřština Jiřího Slavíka\, archaickou hudbu Be
 skyd hraje s kapelou RukyNaDudy.\n\nKoncertoval mj. v Berlíně\, Londýn
 ě\, Stavangeru či Rijádu\, v roce 2010 vystoupil na prestižní konfere
 nci TEDxPrague. Účinkuje na dvou desítkách CD (mj. s Ivou Bittovou v r
 oce 2014 či s Martinem Chodúrem v letech 2012 a 2015). V roce 2016 vydal
  například album Bluesky společně s kanadským hráčem na ragmakamtar
  Edwardem Powellem\, album Divé Husy s Jitkou Šuranskou a Martinem Kraj
 íčkem (nominováno na hudební cenu Anděl 2016) či s Jiřím Slavíkem
  album Mateřština (Anděl 2016 v kategorii world music). Svou osobní vi
 zi moravské world music vtělil do autorského projektu Beránci a vlci\,
  jehož stejnojmenné album vyšlo začátkem roku 2017 (Anděl 2018)\n\nR
 adim Hanousek\nse již od 90. let pohybuje na brněnské jazzové scéně.
  V posledních 10 letech se soustředí na různé podoby improvizace\, in
 termedialitu\, projekty na pomezí jazzu a soudobé hudby. Věnuje se nors
 ko-českému jazzovému kvartetu NOCZ (dále Didrik Ingvaldsen\, Dag Magnu
 s Narvesen\, Marian Friedl). Tento projekt vystoupil na mnoha mezinárodn
 ích jazzových festivalech a v říjnu 2018 vydá již čtvrté cd\, tent
 okrát s pěveckým sborem. Od roku 2015 s NOCZ příležitostně spolupra
 cuje Iva Bittová. Na objednávku festivalu Janáček Brno 2016 připravil
 a rozšířená sestava NOCZ o další instrumentalisty a norskou vokalist
 ku Elisabeth Nygård vlastní jazzovou verzi Janáčkovy Sinfonietty.\nOd 
 roku 2013 vede Hanousek vlastní autorský projekt spojující jazz a soud
 obou hudbu Dust in the Groove. Projekt mimo jiné připravil vlastní tém
 brové\, jazzové i improvizované variace na Bachovu Arii pro festival Ba
 chův varhanní podzim 2017.\nOd roku 2014 Hanousek organizuje v Brně fes
 tival improvizované a experimentální soudobé hudby - Festival oškliv
 é hudby.\n\n
ATTACH;FMTTYPE=image/jpeg:https://ponava.cafe/wp-content/uploads/2017/06/t
 apeta.jpg
CATEGORIES:Koncert
END:VEVENT
BEGIN:VTIMEZONE
TZID:Europe/Prague
X-LIC-LOCATION:Europe/Prague
BEGIN:DAYLIGHT
DTSTART:20180325T030000
TZOFFSETFROM:+0100
TZOFFSETTO:+0200
TZNAME:CEST
END:DAYLIGHT
END:VTIMEZONE
END:VCALENDAR