BEGIN:VCALENDAR
VERSION:2.0
PRODID:-//wp-events-plugin.com//7.2.3.1//EN
TZID:Europe/Prague
X-WR-TIMEZONE:Europe/Prague
BEGIN:VEVENT
UID:684@ponava.cafe
DTSTART;TZID=Europe/Prague:20230721T200000
DTEND;TZID=Europe/Prague:20230721T220000
DTSTAMP:20230708T100157Z
URL:https://ponava.cafe/udalosti/maratons/
SUMMARY:MaraTons
DESCRIPTION:Pražská formace MaraTons s prvky jazzu\, ethno music a world 
 music vás nenechá chladnými! Přijďte si společně s námi užít skv
 ělý páteční večer!\nhttps://www.facebook.com/100070536420958/videos/
 2067659490071394\nMezinárodní\, v Praze fungující projekt MaraTons kom
 binuje free jazz s etnickými prvky. Založil ho před několika lety hrá
 č a sběratel etnických (většinou dechových) nástrojů z celého sv
 ěta Jurij Nikelsky společně s jazzovým trumpetistou Štěpánem Hrušk
 ou\, který hraje mimo jiné v kapelách Hubnutí řízené počítačem a
  Syndikát. Posléze se k MaraTons přidal freejazzový kontrabasista a ba
 skytarista Jozef Láska a nejnověji bubeník Alexander Yermolovich. Sesta
 va se ale čas od času proměňuje a tentokrát s MaraTons vystoupí nam
 ísto Štěpána Hrušky trumpetista Milan Mikšíček z úspěšné ritua
 l fusion kapely Korjen. Ačkoli název MaraTons se na první pohled zdá b
 ýt odvozen od sportovní disciplíny\, ve skutečnosti má evokovat tóny
  pohanské bohyně Mary.\ndoporučené vstupné 200Kč
ATTACH;FMTTYPE=image/jpeg:https://ponava.cafe/wp-content/uploads/2023/07/m
 aratons.jpg
CATEGORIES:Koncert
END:VEVENT
BEGIN:VTIMEZONE
TZID:Europe/Prague
X-LIC-LOCATION:Europe/Prague
BEGIN:DAYLIGHT
DTSTART:20230326T030000
TZOFFSETFROM:+0100
TZOFFSETTO:+0200
TZNAME:CEST
END:DAYLIGHT
END:VTIMEZONE
END:VCALENDAR