BEGIN:VCALENDAR
VERSION:2.0
PRODID:-//wp-events-plugin.com//7.2.3.1//EN
TZID:Europe/Prague
X-WR-TIMEZONE:Europe/Prague
BEGIN:VEVENT
UID:412@ponava.cafe
DTSTART;TZID=Europe/Prague:20200906T140000
DTEND;TZID=Europe/Prague:20200906T220000
DTSTAMP:20200903T153220Z
URL:https://ponava.cafe/udalosti/luzanecka-open/
SUMMARY:Lužánecká Open
DESCRIPTION:\n\n\n\n\n\n\n\n\n\n\n\n\n\nPojďme společně oslavit dokonče
 ní rekonstrukce ulice Lužánecké!\n\n\n\n\n\n\n\n\n\n\n\n\n\n\n\nPrehle
 dny detailni program naleznete na www.luzaneckaopen.cz .\n---\n8:00-11:00\
 nFull English Breakfast\n* (PARK LANE)\n---\n14:00\nSlavnostní zahájení
 \n* (PŘED CAFÉ LAUNDRY)\n---\n14:10\nSpolečná jízda po Lužánecké -
  s sebou kolo\, koloběžka\, skate aj.\n---\n14:15-14:30\nRegistrace na s
 kateboardové závody\n* (STÁNEK BOARDMANIA)\n---\n14:15-18:00\nStreet Wo
 rkout Games - Freestyle (akrobacie na hrazdách a bradlech)\n* (WORKOUT H
 ŘIŠTĚ)\n---\n14:15-22:00\nDJ Spliff\n* (PIVOŇ STAGE)\n---\n14:30\nKval
 ifikace na stateboardové závody\n* (PŘED KONZERVATOŘÍ)\n---\n14:30-15
 :45\nDJ Rubenz\n* (PONAVA STAGE)\n---\n15:30\nSemifinále stateboardových
  závodů\n* (PŘED KONZERVATOŘÍ)\n---\n16:00-16:30\nKid Calvo\n* (PONAV
 A STAGE)\n---\n16:00-20:00\nMindicted DJ's\n* (LAUNDRY STAGE)\n---\n16:30\
 nPowerslide Contest (skateboarding)\n* (PŘED KONZERVATOŘÍ)\n---\n16:45-
 18:00\nDJ Sahi\n* (PONAVA STAGE)\n---\n17:30\nFinále stateboardových zá
 vodů\n* (PŘED KONZERVATOŘÍ)\n---\n18:00\nCash for Tricks (skateboardin
 g)\n* (PŘED KONZERVATOŘÍ)\n---\n18:00-18:45\nRollingband\n* (PARK LANE 
 STAGE)\n---\n18:45-19:00\nPředávání cen ve skejtových soutěžích\n*
  (PONAVA STAGE)\n---\n19:00-20:15\nP.S.H.\n* (PONAVA STAGE)\n---\n20:15-21
 :00\nRollingband\n* (PARK LANE STAGE)\n---\n21:00-22:00\nSajmon and Garfun
 kers\n* (PONAVA STAGE)\n---\n22:00-?????\nAfterparty v přilehlých podnic
 ích\n---\n---\n---\nVstupné dobrovolné\, zážitky k nezaplacení!\n\n\
 n\n\n\n\n\n\n
ATTACH;FMTTYPE=image/jpeg:https://ponava.cafe/wp-content/uploads/2017/06/t
 apeta.jpg
CATEGORIES:Festival
END:VEVENT
BEGIN:VTIMEZONE
TZID:Europe/Prague
X-LIC-LOCATION:Europe/Prague
BEGIN:DAYLIGHT
DTSTART:20200329T030000
TZOFFSETFROM:+0100
TZOFFSETTO:+0200
TZNAME:CEST
END:DAYLIGHT
END:VTIMEZONE
END:VCALENDAR