BEGIN:VCALENDAR
VERSION:2.0
PRODID:-//wp-events-plugin.com//7.2.3.1//EN
TZID:Europe/Prague
X-WR-TIMEZONE:Europe/Prague
BEGIN:VEVENT
UID:273@ponava.cafe
DTSTART;TZID=Europe/Prague:20190716T190000
DTEND;TZID=Europe/Prague:20190716T190000
DTSTAMP:20190705T113909Z
URL:https://ponava.cafe/udalosti/lucie-vitkova-a-haruhiko-okabe/
SUMMARY:Lucie Vítková a Haruhiko Okabe
DESCRIPTION:Česká skladatelka a performerka Lucie Vítková\, žijící v
  New Yorku\, vystoupí s japonským hudebníkem a improvizátorem Haruhike
 m Okabe. V duu zahrají na japonské dvouplátkové flétny hičiriki\, ak
 ordeon\, syntezátor\, fujaru a saxofon. Jejich koncert představí Japons
 kou hudbu Gagaku\, kterou oba studují a hrají\, volnou improvizaci a gra
 fické partitury Lucie Vítkové.\n\nVstupné dobrovolné\, zážitky k ne
 zaplacení. 🙂\n\n
ATTACH;FMTTYPE=image/jpeg:https://ponava.cafe/wp-content/uploads/2017/06/t
 apeta.jpg
CATEGORIES:Koncert
END:VEVENT
BEGIN:VTIMEZONE
TZID:Europe/Prague
X-LIC-LOCATION:Europe/Prague
BEGIN:DAYLIGHT
DTSTART:20190331T030000
TZOFFSETFROM:+0100
TZOFFSETTO:+0200
TZNAME:CEST
END:DAYLIGHT
END:VTIMEZONE
END:VCALENDAR