BEGIN:VCALENDAR
VERSION:2.0
PRODID:-//wp-events-plugin.com//7.2.3.1//EN
TZID:Europe/Prague
X-WR-TIMEZONE:Europe/Prague
BEGIN:VEVENT
UID:261@ponava.cafe
DTSTART;TZID=Europe/Prague:20190530T193000
DTEND;TZID=Europe/Prague:20190530T193000
DTSTAMP:20190528T130934Z
URL:https://ponava.cafe/udalosti/lou-lou-band-feat-marek-kotaca/
SUMMARY:Lou Lou band feat. Marek Kotača
DESCRIPTION:Bogaloo funky feat. Marek Kotača. Vždy jiné originální vys
 toupení. Speciální host na altsaxofon - Marek Kotača.\n\nLou Lou band 
 - funky inspirováno americkým slavným altsaxofonistou Lou Donaldsonem\,
  tentokrát ve složení: \n\nRadek Zapadlo - tenor saxofon\nMarek Kotača
  - alt saxofon\nMiloš Brettfeld - barytonsaxofon\nJan Kozelek - trumpeta\
 nVladan Ronner - hammond org.\nVít Beneš - kytara\nJaroslav Panuš - bas
 kytara\nAdam Sikora - bicí\n\n"Ani jedna noha nezůstane klidná". - Lou 
 Lou\n\nVstupné dobrovolné\, zážitky k nezaplacení :)
ATTACH;FMTTYPE=image/jpeg:https://ponava.cafe/wp-content/uploads/2017/06/t
 apeta.jpg
CATEGORIES:Koncert
END:VEVENT
BEGIN:VTIMEZONE
TZID:Europe/Prague
X-LIC-LOCATION:Europe/Prague
BEGIN:DAYLIGHT
DTSTART:20190331T030000
TZOFFSETFROM:+0100
TZOFFSETTO:+0200
TZNAME:CEST
END:DAYLIGHT
END:VTIMEZONE
END:VCALENDAR