BEGIN:VCALENDAR
VERSION:2.0
PRODID:-//wp-events-plugin.com//7.2.3.1//EN
TZID:Europe/Prague
X-WR-TIMEZONE:Europe/Prague
BEGIN:VEVENT
UID:160@ponava.cafe
DTSTART;TZID=Europe/Prague:20180828T190000
DTEND;TZID=Europe/Prague:20180828T190000
DTSTAMP:20180716T092931Z
URL:https://ponava.cafe/udalosti/lou-lou-2/
SUMMARY:Lou Lou
DESCRIPTION:"Lou Lou - ani jedna noha nesmí zůstat klidná". Nově založ
 ená hudební skupina hrající jazz - funk ve složení: alt saxofon Rade
 k Zapadlo\, baryton saxofon Miloš Brettfeld\, trumpeta Jiří Kotača neb
 o Michal Cálik\, kytara Jan Navrátil\, baskytara Jaroslav Panuš\, bicí
  Kristian Kuruc nebo Adam Sikora. Vystoupení ve venkovním prostoru Café
  a restaurantu Ponava v Lužánkách. Demo úryvek z prvního Live vystoup
 ení na Ponavě je ve videu této události. Vstupné dobrovolné do klobo
 uku. :-).\n\n&nbsp\;
ATTACH;FMTTYPE=image/jpeg:https://ponava.cafe/wp-content/uploads/2017/06/t
 apeta.jpg
CATEGORIES:Koncert
END:VEVENT
BEGIN:VTIMEZONE
TZID:Europe/Prague
X-LIC-LOCATION:Europe/Prague
BEGIN:DAYLIGHT
DTSTART:20180325T030000
TZOFFSETFROM:+0100
TZOFFSETTO:+0200
TZNAME:CEST
END:DAYLIGHT
END:VTIMEZONE
END:VCALENDAR