BEGIN:VCALENDAR
VERSION:2.0
PRODID:-//wp-events-plugin.com//7.2.3.1//EN
TZID:Europe/Prague
X-WR-TIMEZONE:Europe/Prague
BEGIN:VEVENT
UID:153@ponava.cafe
DTSTART;TZID=Europe/Prague:20180722T190000
DTEND;TZID=Europe/Prague:20180722T190000
DTSTAMP:20180702T090348Z
URL:https://ponava.cafe/udalosti/los-carlos-gypsy-swing/
SUMMARY:Los Carlos Gypsy Swing
DESCRIPTION:Trio Carlos - Manouche tvoří patnáctiletý kytarový virtuos
  Kája “Carlito” Vlasák\, jeho táta Karel Vlasák a multiinstrumenta
 lista Richard “Carl” Cortés. Skupina vznikla kolem Carlita\, když se
  začal věnovat hře na kytaru před 4 lety. Věnuje se zejména hudbě s
 tylu gypsy swing\, nebo “Manouche” jazz\, jehož věhlasný idol je ge
 niální kytarista a skladatel Django Reinhardt.\n\n
ATTACH;FMTTYPE=image/jpeg:https://ponava.cafe/wp-content/uploads/2017/06/t
 apeta.jpg
CATEGORIES:Koncert
END:VEVENT
BEGIN:VTIMEZONE
TZID:Europe/Prague
X-LIC-LOCATION:Europe/Prague
BEGIN:DAYLIGHT
DTSTART:20180325T030000
TZOFFSETFROM:+0100
TZOFFSETTO:+0200
TZNAME:CEST
END:DAYLIGHT
END:VTIMEZONE
END:VCALENDAR