BEGIN:VCALENDAR
VERSION:2.0
PRODID:-//wp-events-plugin.com//7.2.3.1//EN
TZID:Europe/Prague
X-WR-TIMEZONE:Europe/Prague
BEGIN:VEVENT
UID:65@ponava.cafe
DTSTART;TZID=Europe/Prague:20171126T180000
DTEND;TZID=Europe/Prague:20171126T180000
DTSTAMP:20171021T211140Z
URL:https://ponava.cafe/udalosti/listopadova-mozaika-pocitu/
SUMMARY:Listopadová Mozaika pocitů
DESCRIPTION:Podvečerní střídání slov mluvených a zpívaných v poci
 tech dvou autorů a interpretů\, básnířky Evy Černé a kytaristy Jirk
 y Kubowského.\n\n\n\nEva Černá\nBásnířka a textařka. Je zastoupena 
 v almanachu Stavitelé chrámu poezie (2010\, Agentura Krigl Praha\, sest
 avil Jiří Halberštát)) a v časopisech (Host\, Universitas atd.). Kni
 žně vydala verše pod názvem Okamžik života (2012\, Agentura Krigl Pr
 aha)\, roku 2015 vyšla vlastním nákladem audiokniha s tímtéž názve
 m. V přípravě má další dvě knížky. Účastní se autorských čt
 ení\, zejména v Brně a Praze. Autorsky spolupracovala s redakcí pro d
 ěti a mládež Českého rozhlasu v Brně a dramaturgicky a autorsky s 
 brněnským loutkovým divadlem. V roce 2015 vzniklo na její texty CD Mo
 zaika pocitů. Od roku 2016 vystupuje společně s Jirkou Kubowským se z
 hudebněnými texty v komorní sestavě (kytara\, zpěv) pod názvem Moza
 ika pocitů.\n\nJirka Kubowský\nHudbě se věnuje od 17. let. Jako zpěv
 ák\, textař a skladatel působil v několika kapelách. V kapele PULS 
 Metal Brno - 1985- 1991 (CD Bigbít je v nás\, 1999\, vydáno i v Řeck
 u) EP Strhaná tvář (Švédsko\, 2003). V kapele Nešvilský krúžek\,
  1997 – 2011 (CD Já se vrátím\, 2003\, CD Doba ledová\, 2007) videok
 lipy hrané na Óčku – Medvědí kolotoč\, Loď bláznů\, Já se vrá
 tím (další videoklipy např. Pocity\, Stařec\, Doba ledová). Zhudebn
 ění textu Kudlanka bezbožná od Simony Monyové k její knize se stejn
 ým názvem (společně s Milanem Potůčkem). V roce 2013 založil kape
 lu Biomassa – 2013-2016 (CD Už žádný tlak\, 2015\, z tohoto CD skla
 dba Skořápky byla nejhranější skladbou roku 2016 stanice Proglas – 
 Jiří Kubowský/Eva Černá). Od roku 2014 začal zhudebňovat texty Evy 
 Černé – výsledkem spolupráce bylo CD Mozaika pocitů (CD bylo spole
 čným projektem více kapel a interpretů) a od roku 2016 se společně s
  Evou Černou věnuje skládání hudby na její texty a jejich interpret
 aci pod názvem Mozaika pocitů.\n\n&nbsp\;
ATTACH;FMTTYPE=image/jpeg:https://ponava.cafe/wp-content/uploads/2017/06/t
 apeta.jpg
CATEGORIES:Autorské čtení,Koncert
END:VEVENT
BEGIN:VTIMEZONE
TZID:Europe/Prague
X-LIC-LOCATION:Europe/Prague
BEGIN:STANDARD
DTSTART:20171029T020000
TZOFFSETFROM:+0200
TZOFFSETTO:+0100
TZNAME:CET
END:STANDARD
END:VTIMEZONE
END:VCALENDAR