BEGIN:VCALENDAR
VERSION:2.0
PRODID:-//wp-events-plugin.com//7.2.3.1//EN
TZID:Europe/Prague
X-WR-TIMEZONE:Europe/Prague
BEGIN:VEVENT
UID:322@ponava.cafe
DTSTART;TZID=Europe/Prague:20191106T190000
DTEND;TZID=Europe/Prague:20191106T190000
DTSTAMP:20191020T173154Z
URL:https://ponava.cafe/udalosti/lily-kiara-2/
SUMMARY:Lily Kiara
DESCRIPTION:Lily Kiara je folková zpěvačka a skladatelka žijící v Ams
 terdamu. Hraje písničky\, které se vyvinuly z příběhů týkajících
  se lidských práv\, propojených s její osobními cestami. Její nejnov
 ější CD Fishing in the Field bylo vydané společností Zip Records. V 
 současné době pracuje na EP s nahrávkami z New Orleans. Má také kape
 lu The RIVER\, která kombinuje písně\, improvizovanou hudbu a poezii.\n
 \nwww.lilykiara.nl\n\nVstupné dobrovolné\, zážitky k nezaplacení. :)\
 n\n&nbsp\;\n\n&nbsp\;
ATTACH;FMTTYPE=image/jpeg:https://ponava.cafe/wp-content/uploads/2017/06/t
 apeta.jpg
CATEGORIES:Koncert
END:VEVENT
BEGIN:VTIMEZONE
TZID:Europe/Prague
X-LIC-LOCATION:Europe/Prague
BEGIN:STANDARD
DTSTART:20191027T020000
TZOFFSETFROM:+0200
TZOFFSETTO:+0100
TZNAME:CET
END:STANDARD
END:VTIMEZONE
END:VCALENDAR