BEGIN:VCALENDAR
VERSION:2.0
PRODID:-//wp-events-plugin.com//7.2.3.1//EN
TZID:Europe/Prague
X-WR-TIMEZONE:Europe/Prague
BEGIN:VEVENT
UID:108@ponava.cafe
DTSTART;TZID=Europe/Prague:20180310T180000
DTEND;TZID=Europe/Prague:20180310T180000
DTSTAMP:20180226T113744Z
URL:https://ponava.cafe/udalosti/letem-whisky-svetem/
SUMMARY:Letem whisky světem
DESCRIPTION:Pojďte se seznámit s whisky z různých koutů světa a dozv
 ědět se více o její výrobě a o tom\, jak ji správně degustovat.\n\
 nČeká nás spanilá jízda deseti whiskových klenotů ze Skotska (Speys
 ide\, Islay\, Highland)\, ale i z Japonska\, Kanady\, Taiwanu\, Irska a Wa
 lesu. Vyzkoušíme různé styly od velmi jemných whisky až po nejsilně
 jšího uzenáče - Bruichladich Octomore.\n\nDegustací nás bude opět b
 ezpečně provádět všemi whisky mazaný sommelier Michal Vavřich.\n\nC
 ena: 350 Kč
ATTACH;FMTTYPE=image/jpeg:https://ponava.cafe/wp-content/uploads/2017/06/t
 apeta.jpg
CATEGORIES:Degustace
END:VEVENT
BEGIN:VTIMEZONE
TZID:Europe/Prague
X-LIC-LOCATION:Europe/Prague
BEGIN:STANDARD
DTSTART:20171029T020000
TZOFFSETFROM:+0200
TZOFFSETTO:+0100
TZNAME:CET
END:STANDARD
END:VTIMEZONE
END:VCALENDAR