BEGIN:VCALENDAR
VERSION:2.0
PRODID:-//wp-events-plugin.com//7.2.3.1//EN
TZID:Europe/Prague
X-WR-TIMEZONE:Europe/Prague
BEGIN:VEVENT
UID:441@ponava.cafe
DTSTART;TZID=Europe/Prague:20210703T190000
DTEND;TZID=Europe/Prague:20210703T220000
DTSTAMP:20210629T102406Z
URL:https://ponava.cafe/udalosti/lamram-jam-inflow-a/
SUMMARY:Lamram Jam + Inflow (A)
DESCRIPTION:Lamram Jam je hudební těleso složené ze zkušených brněns
 kých muzikantů doplněné o virtuózní vídeňský saxofon mistra Manih
 o. Kapela organicky snoubí žánry rocku\, folku až hard-coru\, z nichž
  pučí básnivé texty Jana Lamrama.\n\nKolem Jo &amp\; Crise rostou v r
 ůzných kapelních konstelacích mladí umělci a hudebníci a v této ko
 munitě se rodí funk\, blues-rock &amp\; reggae s mnoha hudebními překv
 apeními...\n\nJo Oswaldo - Guit\, Vox\, FX\nCris Guitar Hanus - Vox\nAlex
  Sloyan - Bass\nDaniel Hodoschi - Drums\nEmanuel Toifl - Sax\, Vox\nLukasz
  Kwitek - Keys\, Sax
ATTACH;FMTTYPE=image/jpeg:https://ponava.cafe/wp-content/uploads/2021/06/2
 08230566_219787073313694_6648910178175287097_n.jpg
CATEGORIES:Koncert
END:VEVENT
BEGIN:VTIMEZONE
TZID:Europe/Prague
X-LIC-LOCATION:Europe/Prague
BEGIN:DAYLIGHT
DTSTART:20210328T030000
TZOFFSETFROM:+0100
TZOFFSETTO:+0200
TZNAME:CEST
END:DAYLIGHT
END:VTIMEZONE
END:VCALENDAR