BEGIN:VCALENDAR
VERSION:2.0
PRODID:-//wp-events-plugin.com//7.2.3.1//EN
TZID:Europe/Prague
X-WR-TIMEZONE:Europe/Prague
BEGIN:VEVENT
UID:938@ponava.cafe
DTSTART;TZID=Europe/Prague:20260331T200000
DTEND;TZID=Europe/Prague:20260331T220000
DTSTAMP:20260329T130602Z
URL:https://ponava.cafe/udalosti/kikos-bop-jam-3/
SUMMARY:Kiko's Bop Jam #3
DESCRIPTION:Zveme vás na jazzový večer na Ponavu. Tentokrát se program 
 ponese ve znamení hudby legendárního pianisty Billa Evanse. V komorním
  obsazení klavírního tria zazní výběr z jeho skladeb\, které Evans 
 svým osobitým přístupem proslavil. Můžete se těšit na jemnou souhr
 u klavíru\, kontrabasu a bicích.
ATTACH;FMTTYPE=image/jpeg:https://ponava.cafe/wp-content/uploads/2026/03/k
 ika.jpg
END:VEVENT
BEGIN:VTIMEZONE
TZID:Europe/Prague
X-LIC-LOCATION:Europe/Prague
BEGIN:DAYLIGHT
DTSTART:20260329T030000
TZOFFSETFROM:+0100
TZOFFSETTO:+0200
TZNAME:CEST
END:DAYLIGHT
END:VTIMEZONE
END:VCALENDAR