BEGIN:VCALENDAR
VERSION:2.0
PRODID:-//wp-events-plugin.com//7.2.3.1//EN
TZID:Europe/Prague
X-WR-TIMEZONE:Europe/Prague
BEGIN:VEVENT
UID:920@ponava.cafe
DTSTART;TZID=Europe/Prague:20260204T193000
DTEND;TZID=Europe/Prague:20260204T220000
DTSTAMP:20260202T214339Z
URL:https://ponava.cafe/udalosti/kikos-bop-jam-1/
SUMMARY:Kiko’s Bop Jam #1
DESCRIPTION:Zveme vás na jedinečný jazzový večer do Ponavy. Čeká vá
 s živý koncert be-bopového quinteta pod taktovkou Kristiana Kuruce pln
 ý energie\, improvizace a autentické klubové atmosféry. House Band tvo
 ří zkušení hudebníci\, kteří se inspirují tradicí klasického jaz
 zu 40. a 50. let. Ve své hudbě kladou důraz na swing\, komunikaci mezi 
 nástroji a spontánní improvizaci.
ATTACH;FMTTYPE=image/jpeg:https://ponava.cafe/wp-content/uploads/2026/01/f
 b-img-1769116505489.jpg
END:VEVENT
BEGIN:VTIMEZONE
TZID:Europe/Prague
X-LIC-LOCATION:Europe/Prague
BEGIN:STANDARD
DTSTART:20251026T020000
TZOFFSETFROM:+0200
TZOFFSETTO:+0100
TZNAME:CET
END:STANDARD
END:VTIMEZONE
END:VCALENDAR