BEGIN:VCALENDAR
VERSION:2.0
PRODID:-//wp-events-plugin.com//7.2.3.1//EN
TZID:Europe/Prague
X-WR-TIMEZONE:Europe/Prague
BEGIN:VEVENT
UID:943@ponava.cafe
DTSTART;TZID=Europe/Prague:20260511T200000
DTEND;TZID=Europe/Prague:20260511T220000
DTSTAMP:20260418T175845Z
URL:https://ponava.cafe/udalosti/kikos-birthday-bop-jam-4/
SUMMARY:KIKO’S BIRTHDAY BOP JAM #4
DESCRIPTION:Zveme Vás  na výjimečný večer plný hudby\, oslavy a dobr
 é atmosféry. Na Ponavě se setká skvělá parta lidí a rozběhne se ja
 zzová jam session věnovaná Johnovi Coltraneovi. Letos si připomínáme
  100 let od jeho narození\, takže jeho hudba bude tvořit hlavní motiv 
 večera. Zároveň spolu oslavíme Kikovy narozeniny při hudbě\, improvi
 zaci a příjemném společném vibu.\n
ATTACH;FMTTYPE=image/jpeg:https://ponava.cafe/wp-content/uploads/2026/04/k
 ika-4.jpeg
END:VEVENT
BEGIN:VTIMEZONE
TZID:Europe/Prague
X-LIC-LOCATION:Europe/Prague
BEGIN:DAYLIGHT
DTSTART:20260329T030000
TZOFFSETFROM:+0100
TZOFFSETTO:+0200
TZNAME:CEST
END:DAYLIGHT
END:VTIMEZONE
END:VCALENDAR