BEGIN:VCALENDAR
VERSION:2.0
PRODID:-//wp-events-plugin.com//7.2.3.1//EN
TZID:Europe/Prague
X-WR-TIMEZONE:Europe/Prague
BEGIN:VEVENT
UID:323@ponava.cafe
DTSTART;TZID=Europe/Prague:20191111T190000
DTEND;TZID=Europe/Prague:20191111T190000
DTSTAMP:20191028T211946Z
URL:https://ponava.cafe/udalosti/kiap/
SUMMARY:KIAP
DESCRIPTION:Trio Kiap hraje hudbu energickou a extrovertní\, čerpá inspi
 raci z americké jazzové avantgardy\, rocku\, metalu i evropské vážné
  hudby. Melodicky neotřelé kompozice ve spojení s rockovou expresivitou
 \, bezprostřední interakcí a improvizací vytváří projekt\, který j
 e na norské scéně vyjímečný a i díky tomu si za tři roky existence
  kapela vydobila na této scéně slušné postavení.\n\nTěleso vystoupi
 lo na festivalech a koncertech v Norsku\, Holandsku\, Dánsku\, Polsku\, S
 lovensku\, České Republice a Japonsku. V roce 2016 skupina vydala debuto
 vé eponymní album u vydavatelství Hevhetia\, v letošním roce vyšlo a
 lbum druhé s hostujících německým saxofonistou a klarinetistou Franke
 m Gratkowskim.\n\nMichal Wróblewski – Alto saxophone\nMagnus Jønnum Gr
 imnes - Guitar\nMagnus Sefaniassen Eide - Drums\n\nVstupné dobrovolné\, 
 zážitky k nezaplacení. 🙂
ATTACH;FMTTYPE=image/jpeg:https://ponava.cafe/wp-content/uploads/2017/06/t
 apeta.jpg
CATEGORIES:Koncert
END:VEVENT
BEGIN:VTIMEZONE
TZID:Europe/Prague
X-LIC-LOCATION:Europe/Prague
BEGIN:STANDARD
DTSTART:20191027T020000
TZOFFSETFROM:+0200
TZOFFSETTO:+0100
TZNAME:CET
END:STANDARD
END:VTIMEZONE
END:VCALENDAR