BEGIN:VCALENDAR
VERSION:2.0
PRODID:-//wp-events-plugin.com//7.2.3.1//EN
TZID:Europe/Prague
X-WR-TIMEZONE:Europe/Prague
BEGIN:VEVENT
UID:664@ponava.cafe
DTSTART;TZID=Europe/Prague:20230701T200000
DTEND;TZID=Europe/Prague:20230701T220000
DTSTAMP:20230505T080853Z
URL:https://ponava.cafe/udalosti/khoiba/
SUMMARY:KHOIBA
DESCRIPTION:Dvojice Ema Brabcová a Filip Míšek\, pro níž je charakteri
 stické introvertní a citové písničkářství\, začala pod jménem Kh
 oiba tvořit v roce 2002 a do roku 2008 společně natočili alba Nice Tra
 ps a Mellow Drama. Na scénu se po pauze vrátili v roce 2019 s albem Khoi
 ba\, na nějž nyní navazuje v pořadí čtvrtá deska Vertical Urgencies
 . Tu Khoiba pokřtí 19. dubna v pražském klubu MeetFactory.\nTěšte se
  na open-air koncert skvělé kapely Khoiba v Ponavě.\nhttps://found.ee/k
 hoibaverticalurgencies\nDoporučené vstupné 200Kč.
ATTACH;FMTTYPE=image/jpeg:https://ponava.cafe/wp-content/uploads/2023/05/3
 40766520_909236173696837_9116664936207409654_n.jpg
CATEGORIES:Koncert
END:VEVENT
BEGIN:VTIMEZONE
TZID:Europe/Prague
X-LIC-LOCATION:Europe/Prague
BEGIN:DAYLIGHT
DTSTART:20230326T030000
TZOFFSETFROM:+0100
TZOFFSETTO:+0200
TZNAME:CEST
END:DAYLIGHT
END:VTIMEZONE
END:VCALENDAR