BEGIN:VCALENDAR
VERSION:2.0
PRODID:-//wp-events-plugin.com//7.2.3.1//EN
TZID:Europe/Prague
X-WR-TIMEZONE:Europe/Prague
BEGIN:VEVENT
UID:22@ponava.cafe
DTSTART;TZID=Europe/Prague:20170822T210000
DTEND;TZID=Europe/Prague:20170822T210000
DTSTAMP:20170725T170006Z
URL:https://ponava.cafe/udalosti/kainovy-deti-marcell-gero-madarskofrancie
 -2014-104/
SUMMARY:Kainovy děti
DESCRIPTION:Kainovy děti (Marcell Gerő\, Maďarsko/Francie\, 2014\, 104
 ‘)\n\nTři muži - tři vraždy - budoucnost - realita!\n\nTři muži. K
 dyž byli ještě dětmi\, spáchali vraždu. Celé dětství a dospíván
 í strávili v nejdrsnějším vězení komunistického Maďarska. Tam byl
 y i poprvé zachyceni na kameru\, jak přiznávají své zločiny\, podrob
 ně je popisují a zároveň se svěřují se svými plány do budoucna. P
 o třiceti letech se je režisér znovu vydal hledat a odhaluje tajemství
  a Maďarsko\, jak ho ještě neznal. Osud\, hříchy a odkaz očima Kaino
 vých dětí.\n\nhttp://www.imdb.com/title/tt3914482/?ref_=rvi_tt
ATTACH;FMTTYPE=image/jpeg:https://ponava.cafe/wp-content/uploads/2017/06/t
 apeta.jpg
CATEGORIES:Promítání
END:VEVENT
BEGIN:VTIMEZONE
TZID:Europe/Prague
X-LIC-LOCATION:Europe/Prague
BEGIN:DAYLIGHT
DTSTART:20170326T030000
TZOFFSETFROM:+0100
TZOFFSETTO:+0200
TZNAME:CEST
END:DAYLIGHT
END:VTIMEZONE
END:VCALENDAR