BEGIN:VCALENDAR
VERSION:2.0
PRODID:-//wp-events-plugin.com//7.2.3.1//EN
TZID:Europe/Prague
X-WR-TIMEZONE:Europe/Prague
BEGIN:VEVENT
UID:136@ponava.cafe
DTSTART;TZID=Europe/Prague:20180627T190000
DTEND;TZID=Europe/Prague:20180627T190000
DTSTAMP:20180625T170037Z
URL:https://ponava.cafe/udalosti/jazz-kombo-turbo-party/
SUMMARY:JAZZ KomboTurboParty
DESCRIPTION:JAZZKomboTurboParty je kapela\, která hraje známé\, ale i m
 éně známé skladby\, vlastní písně  a skladby volně komponované\,
  u nichž zvuk nezná hranic.\n\nNabízí hudbu plnou vtipu\, nápaditých
  zvratů\, kontrastů a příjemných častí\, které zahřejí tělo i d
 ucha. Tento turbo našlapaný hudební zjev ti otevře uši víc než oči
  a zahřeje tvoje srdíčko.\n\n&nbsp\;\n\nPavel Zlámal- saxofon\n\nMarti
 n Konvička - piano\n\nJaroslav Šťastný - Piano\n\nPeter \,\,Kozmo\,\, 
 Korman - kontrabas\n\nKristián Kuruc - bicí
ATTACH;FMTTYPE=image/jpeg:https://ponava.cafe/wp-content/uploads/2017/06/t
 apeta.jpg
CATEGORIES:Koncert
END:VEVENT
BEGIN:VTIMEZONE
TZID:Europe/Prague
X-LIC-LOCATION:Europe/Prague
BEGIN:DAYLIGHT
DTSTART:20180325T030000
TZOFFSETFROM:+0100
TZOFFSETTO:+0200
TZNAME:CEST
END:DAYLIGHT
END:VTIMEZONE
END:VCALENDAR