BEGIN:VCALENDAR
VERSION:2.0
PRODID:-//wp-events-plugin.com//7.2.3.1//EN
TZID:Europe/Prague
X-WR-TIMEZONE:Europe/Prague
BEGIN:VEVENT
UID:643@ponava.cafe
DTSTART;TZID=Europe/Prague:20230402T180000
DTEND;TZID=Europe/Prague:20230402T200000
DTSTAMP:20230327T171533Z
URL:https://ponava.cafe/udalosti/jaromir-typlt-art-brut/
SUMMARY:Jaromír Typlt / ART BRUT
DESCRIPTION:Jak rozpoznat to pravé art brut\nJaromír Typlt\n\nCo to je ar
 t brut - volně přeloženo "umění v surovém stavu" -\, to se na předn
 ášce pokusí přiblížit spisovatel\, performer\, výtvarný teoretik a
  od září 2022 také kurátor galerie Art brut Praha Jaromír Typlt. Ten
  mimo jiné pomohl získat uznání pro dnes už světově proslulého tv
 ůrce art brut Zdeňka Koška\, ale výstavami a knižními publikacemi dl
 ouhodobě prosazuje i řadu dalších autorů. Od roku 2018 spolupracuje s
  Ateliérem radostné tvorby v Praze na Letné. Toto u nás ojediněné za
 řízení podporuje nadané tvůrce s mentálním hendikepem nebo chronick
 ým duševním onemocněním.\n\nwww.typlt.cz
ATTACH;FMTTYPE=image/jpeg:https://ponava.cafe/wp-content/uploads/2023/03/3
 36879328_581061564056546_3216050312187180240_n.jpg
CATEGORIES:Přednáška
END:VEVENT
BEGIN:VTIMEZONE
TZID:Europe/Prague
X-LIC-LOCATION:Europe/Prague
BEGIN:DAYLIGHT
DTSTART:20230326T030000
TZOFFSETFROM:+0100
TZOFFSETTO:+0200
TZNAME:CEST
END:DAYLIGHT
END:VTIMEZONE
END:VCALENDAR