BEGIN:VCALENDAR
VERSION:2.0
PRODID:-//wp-events-plugin.com//7.2.3.1//EN
TZID:Europe/Prague
X-WR-TIMEZONE:Europe/Prague
BEGIN:VEVENT
UID:244@ponava.cafe
DTSTART;TZID=Europe/Prague:20190329T200000
DTEND;TZID=Europe/Prague:20190329T200000
DTSTAMP:20190318T162202Z
URL:https://ponava.cafe/udalosti/janousek-wroblewski-quartet/
SUMMARY:Janoušek-Wróblewski Quartet
DESCRIPTION:Nový projekt dvou bývalých dlouholetých spoluhráčů z kap
 ely Mocca Malacco\, kteří se po letech opět dali dohromady. Akustický 
 kvartet ve složení trombón\, alt saxofon\, kontrabas a bicí ve skladb
 ách z dílny všech členů tohoto tělesa kombinuje vlivy new orleans\, 
 blues\, soul jazzu\, newyorské downtown scény\, free jazzu\, rocku a bů
 hví čeho ještě.V jejich hudbě je přítomný humor\, volná improviza
 ce a téměř neúnosné množství energie.\n\nŠtěpán Janoušek\nJe mi
 mořádně talentovaný hudebník\, který působí jako trombónista\, zp
 ěvák a v současné době rovněž vyučuje trombón na Konzervatoři Ja
 roslava Ježka. Účinkuje ve vokálním sextetu Skety\, Concept Art Orche
 stra nebo MarZ. V roce 2008 vyhrál v soutěži Junior Jazz cenu pro nejle
 pšího sólistu a v roce 2014 zvítězil v soutěži J. J. Johnson Compet
 ition\, pořádanou Mezinárodní trombónovou asociací.\n\nMichal Wróbl
 ewski\nJe skladatel a saxofonista\, který vede několik projektů v Čech
 ách a v Norsku\, kde dosáhl magisterského titulu na Norwegian Academy o
 f Music. Pro všechny své kapely také píše hudbu a účinkuje s nimi p
 o celé Evropě i mimo ní. Mezi jeho hlavní projekty patří E Converso\
 , Kiap\, Michal Wróblewski Ensemble nebo Swomp. Deska jeho kapely E Conve
 rso - Konspirační Melodie byla českými kritiky označena jako jedno z 
 nejlepších jazzových alb roku 2014.\n\nMiloš Klápště\nMladý a nesm
 írně univerzální hudebník se v posledních letech stal jedním z nejv
 yhledávanějších basistů na české scéně. Působí například v ka
 pelách Tryptych Neřež\, Voila nebo Fehero Rocher zpěvačky Sisy Fehero
 vé.\n\nJan Chalupa\nOriginální bubeník s nezaměnitelnou energií\, p
 ůsobí v různých uskupeních napříč žánry\, například: E Convers
 o\, Talaqpo\,PIO\, Arará\, Jananas atd...\n\nJanoušek-Wróblewski Quarte
 t vydávají na konci měsíce virtuální dvojalbum\, které vyjdou pouze
  na Bandcampu SVATBY/PLESY\n\nSVATBY je album složené z autorských skla
 deb Michala Wróblewského a Štěpána Janouška. Eklektické kusy jsou 
 žánrově různorodé (new orleans\,free jazz\, hard bop\, surf rock\, de
 chovka atd.) Na albu naleznete jak skladby hezké tak i ošklivé.\n\nPLES
 Y je album na jehož tvorbě se rovnoměrně podílí celý kvartet\, jedn
 otlivé skladby vznikly spontánně zhruba ve stejné době\, ve které by
 ly nahrány. Na albu naleznete skladby veselé i smutné.\n\n&nbsp\;\n\n\n
 \n&nbsp\;\n\n.                              
                                           
    Vstupné dobrovolné\, zážitky k nezaplacení :)
ATTACH;FMTTYPE=image/jpeg:https://ponava.cafe/wp-content/uploads/2017/06/t
 apeta.jpg
CATEGORIES:Koncert
END:VEVENT
BEGIN:VTIMEZONE
TZID:Europe/Prague
X-LIC-LOCATION:Europe/Prague
BEGIN:STANDARD
DTSTART:20181028T020000
TZOFFSETFROM:+0200
TZOFFSETTO:+0100
TZNAME:CET
END:STANDARD
END:VTIMEZONE
END:VCALENDAR