BEGIN:VCALENDAR
VERSION:2.0
PRODID:-//wp-events-plugin.com//7.2.3.1//EN
TZID:Europe/Prague
X-WR-TIMEZONE:Europe/Prague
BEGIN:VEVENT
UID:388@ponava.cafe
DTSTART;TZID=Europe/Prague:20200823T183000
DTEND;TZID=Europe/Prague:20200823T190000
DTSTAMP:20200805T160210Z
URL:https://ponava.cafe/udalosti/janousek-wroblewski-quartet-3/
SUMMARY:Janoušek-Wróblewski Quartet
DESCRIPTION:\nAkustický kvartet ve složení trombón\, alt saxofon\, kont
 rabas a bicí ve skladbách z dílny všech členů tohoto tělesa kombinu
 je vlivy new orleans\, blues\, soul jazzu\, newyorské downtown scény\, f
 ree jazzu\, rocku a bůhví čeho ještě.V jejich hudbě je přítomný h
 umor\, improvizace a téměř neúnosné množství energie.\n\n\n Štěp
 án Janoušek- trombone\nMichal Wróblewski- alto sax\nMiloš Klápště -
  double bass\nJan Chalupa- drums\n\n\nKoncerty jsou u nás stále za dobro
 volně vstupné\, ale těch nejlepších míst není zas tak mnoho. Pokud
  chcete mít jistotu\, že dobře uvidíte a uslyšíte\, kupte si míste
 nku! Můžete si ji rezervovat online na: www.ponavafest.cz/rezervace/\nJ
 anoušek-Wróblewski Quartet / Z-Country Paradise - Místenka: 200 Kč\n\
 nKoncert probíhá ve spolupráci s Maratonem hudby Brno\n\n\n\n
ATTACH;FMTTYPE=image/jpeg:https://ponava.cafe/wp-content/uploads/2017/06/t
 apeta.jpg
CATEGORIES:Festival,Koncert
END:VEVENT
BEGIN:VTIMEZONE
TZID:Europe/Prague
X-LIC-LOCATION:Europe/Prague
BEGIN:DAYLIGHT
DTSTART:20200329T030000
TZOFFSETFROM:+0100
TZOFFSETTO:+0200
TZNAME:CEST
END:DAYLIGHT
END:VTIMEZONE
END:VCALENDAR