BEGIN:VCALENDAR
VERSION:2.0
PRODID:-//wp-events-plugin.com//7.2.3.1//EN
TZID:Europe/Prague
X-WR-TIMEZONE:Europe/Prague
BEGIN:VEVENT
UID:423@ponava.cafe
DTSTART;TZID=Europe/Prague:20201004T170000
DTEND;TZID=Europe/Prague:20201004T220000
DTSTAMP:20200921T121553Z
URL:https://ponava.cafe/udalosti/jan-kratochvila-geospirit/
SUMMARY:Jan Kratochvíla - Geošpirit
DESCRIPTION:Vernisáž počítačových grafik Jana Kratochvíly. Zahrají 
 IVANAAMATÚŠ.\n\nJan Kratochvíla vystudoval Fakultu umění a designu v 
 ateliéru Jiřího Kovandy\, obor performance. Nicméně jeho východiskem
  je malba\, bravurní\, velkoformátová\, kombinující realistickou malb
 u s abstraktními prvky a prostory\, nebo také s objektem\, asambláží.
  Objekt a instalaci uplatňuje Honza i v další tvorbě\, často společn
 ě s vlastním tělem. Pak už nemá daleko k procesuálnímu pojetí\, kt
 eré rozvíjí jistě i díky osobnosti Kláry\, své dlouholeté přítel
 kyně\, která vystudovala performance u Tomáše Rullera na FAVU v Brně.
 \nJeho tvorbě snad nikdy nechybí humor\, často v jemné\, delikátní p
 odobě. Honza je pokoušen překračováním hranic intimity\, vynáší n
 a veřejnost cizí spodní prádlo\, močení\, nahotu\, hledání vlastn
 ího pohlaví nebo spíš jeho záměnu\, přebývání jednoho v druhém\
 , partnerskou domácnost. Připomíná nám společenské konvence\, kter
 é už nevnímáme\, připomíná nám kus naší podstaty.\nPoslední dob
 ou Honza hlavně medituje. Napojuje se na ženskou bytost v sobě a prož
 ívá lásku. Geometrie\, zastupující negativní pól v jeho raných obr
 azech\, se proměnila v pozitivní vesmírný princip\, který ovládl Hon
 zovy počítačové obrazy. Hledat a najít v nich můžete ledacos\, vče
 tně těch různých pohlaví. Autor o nich říká\, že jsou „extrakte
 m přítomného okamžiku“. Vznikají spontánním skládáním jednotli
 vých geometrických prvků a barev\, takových\, jaké daný okamžik př
 inese. Prezentujeme sérii okamžiků zhruba od konce roku 2019\, žádný
  okamžik/grafika není vynechána\, není tu žádná selekce. Honzou nah
 lédnutá přítomnost tak\, jak byla. A už není. Nebo nevím.\nLenka Se
 dláčková\n\nHonza pochází z Poděbrad\, ale už řadu let žije se sv
 ou partnerkou Klarisou Kleinerovou v Brně. Společně vedou KON.DOM – k
 onceptuální domácnost. Nejvíc z Honzových i společných prací můž
 ete vidět na Honzově FB profilu.\nhttps://www.facebook.com/jan.kratochvi
 la.52\n\nVýstava potrvá do 4. listopadu 2020.\nKurátoři: Jan Karpíše
 k\, Lenka Sedláčková\n\nZa finanční podpory statutárního města Brn
 a.
ATTACH;FMTTYPE=image/jpeg:https://ponava.cafe/wp-content/uploads/2017/06/t
 apeta.jpg
CATEGORIES:Výstava
END:VEVENT
BEGIN:VTIMEZONE
TZID:Europe/Prague
X-LIC-LOCATION:Europe/Prague
BEGIN:DAYLIGHT
DTSTART:20200329T030000
TZOFFSETFROM:+0100
TZOFFSETTO:+0200
TZNAME:CEST
END:DAYLIGHT
END:VTIMEZONE
END:VCALENDAR